BEGIN:VCALENDAR
VERSION:2.0
PRODID:-//burg-vischering - ECPv6.15.20//NONSGML v1.0//EN
CALSCALE:GREGORIAN
METHOD:PUBLISH
X-WR-CALNAME:burg-vischering
X-ORIGINAL-URL:https://burg-vischering.de
X-WR-CALDESC:Veranstaltungen für burg-vischering
REFRESH-INTERVAL;VALUE=DURATION:PT1H
X-Robots-Tag:noindex
X-PUBLISHED-TTL:PT1H
BEGIN:VTIMEZONE
TZID:Europe/Amsterdam
BEGIN:DAYLIGHT
TZOFFSETFROM:+0100
TZOFFSETTO:+0200
TZNAME:CEST
DTSTART:20220327T010000
END:DAYLIGHT
BEGIN:STANDARD
TZOFFSETFROM:+0200
TZOFFSETTO:+0100
TZNAME:CET
DTSTART:20221030T010000
END:STANDARD
BEGIN:DAYLIGHT
TZOFFSETFROM:+0100
TZOFFSETTO:+0200
TZNAME:CEST
DTSTART:20230326T010000
END:DAYLIGHT
BEGIN:STANDARD
TZOFFSETFROM:+0200
TZOFFSETTO:+0100
TZNAME:CET
DTSTART:20231029T010000
END:STANDARD
BEGIN:DAYLIGHT
TZOFFSETFROM:+0100
TZOFFSETTO:+0200
TZNAME:CEST
DTSTART:20240331T010000
END:DAYLIGHT
BEGIN:STANDARD
TZOFFSETFROM:+0200
TZOFFSETTO:+0100
TZNAME:CET
DTSTART:20241027T010000
END:STANDARD
BEGIN:DAYLIGHT
TZOFFSETFROM:+0100
TZOFFSETTO:+0200
TZNAME:CEST
DTSTART:20250330T010000
END:DAYLIGHT
BEGIN:STANDARD
TZOFFSETFROM:+0200
TZOFFSETTO:+0100
TZNAME:CET
DTSTART:20251026T010000
END:STANDARD
END:VTIMEZONE
BEGIN:VEVENT
DTSTART;TZID=Europe/Amsterdam:20231029T170000
DTEND;TZID=Europe/Amsterdam:20240121T180000
DTSTAMP:20260422T032811
CREATED:20230919T083938Z
LAST-MODIFIED:20231030T161156Z
UID:9462-1698598800-1705860000@burg-vischering.de
SUMMARY:ART Vischering
DESCRIPTION:Die traditionelle Kunstausstellung ART Vischering kommt zurück nach Lüdinghausen: Einmal mehr präsentiert die Burg Vischering im Winter 2023 Werke ganz unterschiedlicher Künstlerinnen und Künstler. Etablierte Berühmtheiten der zeitgenössischen Kunst\, aber auch aufstrebende Kunstschaffende und Größen aus der Region steuern Arbeiten zu dieser Ausstellung bei. Grafiken\, Malereien und Keramik treffen bei der ART Vischering im Ambiente der historischen Wasserburg aufeinander. Wie jedes Jahr gibt es bei dieser Ausstellung auch wieder die Möglichkeit\, alles was gefällt\, direkt zu kaufen und mit nach Hause zu nehmen. \nMit Werken von: Julia Arztmann | Gert Bachmann | Heike Kati Barath | Hugo Boguslawski | Gabi Dahl | Marita Damkröger | Ulrike Donié | Francois du Plessis | Thomas Duttenhoefer | Claudia Ebbing | Maria Eggenkemper | Max Giermann | Mari Girkelidse | Dorthe Goeden | Andreas Gorke | Beate Höing | Max Immendorff | Gunilla Jähnichen | Andreas Junge | Barbara Kämereit | Susanne Kamps | Doris Kastner | HaPS | Per Kirkeby | Min Clara Kim | Hermann-Josef Kuhna | Sala Lieber | Markus Lüpertz | Nico Mares | Heiner Meyer | Armin Mueller Stahl | Sigrid Nienstedt | Sebastian Osterhaus | AR Penck | Milan Peschel | Stefan Pietryga | Klaus Prior | Sandra Pulina | Monika Radhoff-Troll | Lars Reiffers | Werner Reuber | Almuth Rusteberg | Paul Schwer | Caius Spillner | Daniel Spitzer | Eri Ständer | Marius Stutte | Ingrid Teiner | Antonia Thürich | Klaus Trawny | Gan-Endere Tsend | Narangerel Tsendsuren | Mechtild van Ahlers | Elly van der Graaf | Ludwig Maria Vongries | Anja Weinberg uvm. \nEintritt: 3\,50 € | erm. 2 € \nBild: Gabi Dahl\, Turbulenzen III (rot)\, Farbholzschnitt\, 40 x 60 cm \n  \nART Vischering digital
URL:https://burg-vischering.de/kulturprogramm/art-vischering-2023/
LOCATION:Burg Vischering\, Berenbrock 1\, Lüdinghausen\, Nordrhein-Westfalen\, 59348\, Deutschland
CATEGORIES:Ausstellung
ATTACH;FMTTYPE=image/jpeg:https://burg-vischering.de/wp-content/uploads/2023/09/ART-Vischering-1.jpg
ORGANIZER;CN="Burg Vischering":MAILTO:kultur@kreis-coesfeld.de
END:VEVENT
BEGIN:VEVENT
DTSTART;TZID=Europe/Amsterdam:20231217T110000
DTEND;TZID=Europe/Amsterdam:20231217T120000
DTSTAMP:20260422T032811
CREATED:20231110T130606Z
LAST-MODIFIED:20250704T114601Z
UID:9626-1702810800-1702814400@burg-vischering.de
SUMMARY:Kindertheater Hille Pupille: „Morgen kommt der Weihnachtshahn“
DESCRIPTION:Die Hühner Gertrud\, Linda\, Juanita\, Heather\, die Zwillinge Babsi und Susi und der Hahn Serge können einfach nicht einschlafen. Draußen wird geputzt und geschrubbt\, die Bauern schmücken den ganzen Hof und singen Weihnachtslieder\, Babsi und Susi singen dauernd mit\, und der Schein der Lichterketten dringt bis in den hintersten Winkel des Stalls. Also beschließen die Hühner\, selbst Weihnachten zu feiern. Sie putzen und schmücken den Stall\, basteln Geschenke\, kümmern sich um die frisch geschlüpften Küken\, streiten und vertragen sich. \nAls sie endlich fertig sind\, klopft es. Vor der Tür steht eine zitternde und frierende Gans und bittet um Obdach. „So eine Unverschämtheit. Weihnachten wird nicht angeklopft!“ Oder doch? Natürlich lösen die Hühner das Problem auf eine wunderbar menschliche Art und Weise. \nTickets\nErwachsene 5 € | Kinder 3 €\nAnmeldung unter 02591/79 90-0 oder kultur@kreis-coesfeld.de
URL:https://burg-vischering.de/kulturprogramm/kindertheater-hille-pupille-morgen-kommt-der-weihnachtshahn/
LOCATION:Burg Vischering\, Berenbrock 1\, Lüdinghausen\, Nordrhein-Westfalen\, 59348\, Deutschland
CATEGORIES:Allgemeine Veranstaltungen,Archiv-allgemeine-Veranstaltungen
ATTACH;FMTTYPE=image/jpeg:https://burg-vischering.de/wp-content/uploads/2023/10/Weihnachtshahn.jpg
END:VEVENT
BEGIN:VEVENT
DTSTART;TZID=Europe/Amsterdam:20231217T150000
DTEND;TZID=Europe/Amsterdam:20231217T160000
DTSTAMP:20260422T032811
CREATED:20231011T072826Z
LAST-MODIFIED:20250704T114718Z
UID:9528-1702825200-1702828800@burg-vischering.de
SUMMARY:Kindertheater Hille Pupille: "Morgen kommt der Weihnachtshahn" (ausverkauft)
DESCRIPTION:Die Hühner Gertrud\, Linda\, Juanita\, Heather\, die Zwillinge Babsi und Susi und der Hahn Serge können einfach nicht einschlafen. Draußen wird geputzt und geschrubbt\, die Bauern schmücken den ganzen Hof und singen Weihnachtslieder\, Babsi und Susi singen dauernd mit\, und der Schein der Lichterketten dringt bis in den hintersten Winkel des Stalls. Also beschließen die Hühner\, selbst Weihnachten zu feiern. Sie putzen und schmücken den Stall\, basteln Geschenke\, kümmern sich um die frisch geschlüpften Küken\, streiten und vertragen sich. \nAls sie endlich fertig sind\, klopft es. Vor der Tür steht eine zitternde und frierende Gans und bittet um Obdach. „So eine Unverschämtheit. Weihnachten wird nicht angeklopft!“ Oder doch? Natürlich lösen die Hühner das Problem auf eine wunderbar menschliche Art und Weise. \nTickets\nErwachsene 5 € | Kinder 3 €\nAnmeldung unter 02591/79 90-0 oder kultur@kreis-coesfeld.de
URL:https://burg-vischering.de/kulturprogramm/kinderthater-hille-pupille-morgen-kommt-der-weihnachtshahn/
LOCATION:Burg Vischering\, Berenbrock 1\, Lüdinghausen\, Nordrhein-Westfalen\, 59348\, Deutschland
CATEGORIES:Allgemeine Veranstaltungen,Archiv-allgemeine-Veranstaltungen
ATTACH;FMTTYPE=image/jpeg:https://burg-vischering.de/wp-content/uploads/2023/10/Weihnachtshahn.jpg
END:VEVENT
BEGIN:VEVENT
DTSTART;TZID=Europe/Amsterdam:20231224T160000
DTEND;TZID=Europe/Amsterdam:20231224T170000
DTSTAMP:20260422T032811
CREATED:20231116T142819Z
LAST-MODIFIED:20250704T114736Z
UID:9707-1703433600-1703437200@burg-vischering.de
SUMMARY:Weihnachten | Krippenfeier in der Felizitaskirche
DESCRIPTION:++Die Krippenfeier findet aufgrund der Wettervorhersage in der Felizitaskirche statt++\n \nAn Heiligabend (24. Dezember 2023) um 16 Uhr laden die katholische St. Felizitas-Gemeinde und die evangelische Kirchengemeinde Lüdinghausen-Nordkirchen gemeinsam ein – zu einer Krippenfeier in die Felizitaskirche. Anschließend findet um 18 Uhr ein ökumenischer Freiluft-Gottesdienst an auf der Wiese an der Burgkapelle der Burg Vischering statt. \nFoto: Markus Kleymann
URL:https://burg-vischering.de/kulturprogramm/weihnachten-krippenfeier/
LOCATION:Burg Vischering\, Berenbrock 1\, Lüdinghausen\, Nordrhein-Westfalen\, 59348\, Deutschland
CATEGORIES:Allgemeine Veranstaltungen,Archiv-allgemeine-Veranstaltungen
ATTACH;FMTTYPE=image/jpeg:https://burg-vischering.de/wp-content/uploads/2023/11/Weihnachten-Gottesdienst-Luedinghausen-©Markus-Kleymann-scaled.jpg
ORGANIZER;CN="Burg Vischering":MAILTO:kultur@kreis-coesfeld.de
END:VEVENT
BEGIN:VEVENT
DTSTART;TZID=Europe/Amsterdam:20231224T180000
DTEND;TZID=Europe/Amsterdam:20231224T193000
DTSTAMP:20260422T032811
CREATED:20231107T162308Z
LAST-MODIFIED:20250704T114745Z
UID:9622-1703440800-1703446200@burg-vischering.de
SUMMARY:Weihnachten | Gottesdienst
DESCRIPTION:Gottesdienst an der Kapelle der Burg Vischering \nAn Heiligabend (24. Dezember 2023) um 18 Uhr laden die katholische St. Felizitas-Gemeinde und die evangelische Kirchengemeinde Lüdinghausen-Nordkirchen wieder gemeinsam mit dem Kreis Coesfeld auf die Burg Vischering ein – zu einem ökumenischen Freiluft-Gottesdienst auf der Wiese an der Burgkapelle. Um 16:00 Uhr findet dort zuvor eine Krippenfeier statt. \nWer eine Teilnahme plant\, sollte beachten\, dass der Platz nicht bestuhlt sein wird. „Die festliche Feier fand erstmals 2018 auf Burg Vischering statt und traf auf großes Interesse“\, berichtet Kreis-Kulturdezernent Detlef Schütt und freut sich auch diesmal auf viele Teilnehmende. \nFoto: Markus Kleymann
URL:https://burg-vischering.de/kulturprogramm/weihnachten/
LOCATION:Burg Vischering\, Berenbrock 1\, Lüdinghausen\, Nordrhein-Westfalen\, 59348\, Deutschland
CATEGORIES:Allgemeine Veranstaltungen,Archiv-allgemeine-Veranstaltungen
ATTACH;FMTTYPE=image/jpeg:https://burg-vischering.de/wp-content/uploads/2023/11/Weihnachten-Gottesdienst-Luedinghausen-©Markus-Kleymann-scaled.jpg
ORGANIZER;CN="Burg Vischering":MAILTO:kultur@kreis-coesfeld.de
END:VEVENT
BEGIN:VEVENT
DTSTART;TZID=Europe/Amsterdam:20231231T153000
DTEND;TZID=Europe/Amsterdam:20231231T173000
DTSTAMP:20260422T032811
CREATED:20231103T131426Z
LAST-MODIFIED:20250704T114800Z
UID:9617-1704036600-1704043800@burg-vischering.de
SUMMARY:Cologne Clarinet Quartet - Silvesterkonzert
DESCRIPTION:Das Jahr stimmungsvoll ausklingen lassen: In bester Tradition findet auch diesmal ein Silvesterkonzert auf Burg Vischering statt. Das Cologne Clarinet Quartet tritt am 31. Dezember 2023 (Sonntag) um 15:30 Uhr in Lüdinghausen auf – voller Leidenschaft und auf höchstem Niveau. Möglich macht dies die „Werner Richard – Dr. Carl Dörken Stiftung“ aus Herdecke\, die mit dem Kreis Coesfeld seit vielen Jahren kooperiert. \nDas Quartett ist mit den jungen Klarinettisten Grigoris Vasileiadis\, Guilherme Mamede Alves\, Jan Wilhelm Bennefeld und Georgios Karagkounis international besetzt. „Es ist ein aufstrebendes und innovatives Ensemble\, das sich an der Musikhochschule Köln zusammengefunden hat und seitdem leidenschaftlich auf höchstem Niveau miteinander musiziert“\, freut sich Kreis-Kulturdezernent Detlef Schütt. Neben den Klassikern wie Beethoven und Mendelssohn widmen sich die vier Musiker auch intensiv der zeitgenössischen Musik und deren Klangwelten. Zahlreiche Arrangements für diese außergewöhnliche Besetzung werden dabei wiederentdeckt und erlebt. Durch die Homogenität der Klarinetten ist es möglich\, ein sehr breit gefächertes und in sich rundes Klangerlebnis zu schaffen. \nBesetzung\nGrigoris Vasileiadis\, Guilherme Mamede Alves\, Jan Wilhelm Bennefeld und Georgios Karagkounis \nTickets\n20 € | erm. 17 € (online zzgl. VVK-Gebühren)\nFür den Ticketverkauf bitte HIER klicken. \nFoto: © Agentur \nDiese Veranstaltung der Burg Vischering ist neben einigen anderen auch in Deiner KulturPass-App gelistet und für Dich buchbar. Der KulturPass ist ein Angebot der Bundesregierung für alle\, die 2023 ihren 18. Geburtstag feiern. Sie erhalten ab ihrem 18. Geburtstag ein Budget von 200 Euro\, das sie für Eintrittskarten\, Bücher\, CDs\, Platten und vieles andere einsetzen können. So wird Kultur vor Ort noch einfacher erlebbar.
URL:https://burg-vischering.de/kulturprogramm/cologne-clarinet-quartet-silvesterkonzert/
LOCATION:Burg Vischering\, Berenbrock 1\, Lüdinghausen\, Nordrhein-Westfalen\, 59348\, Deutschland
CATEGORIES:Archiv-Konzert,Konzert
ATTACH;FMTTYPE=image/jpeg:https://burg-vischering.de/wp-content/uploads/2023/11/Silvesterkonzert-BV.jpg
END:VEVENT
END:VCALENDAR