BEGIN:VCALENDAR
VERSION:2.0
PRODID:-//burg-vischering - ECPv6.15.20//NONSGML v1.0//EN
CALSCALE:GREGORIAN
METHOD:PUBLISH
X-ORIGINAL-URL:https://burg-vischering.de
X-WR-CALDESC:Veranstaltungen für burg-vischering
REFRESH-INTERVAL;VALUE=DURATION:PT1H
X-Robots-Tag:noindex
X-PUBLISHED-TTL:PT1H
BEGIN:VTIMEZONE
TZID:Europe/Amsterdam
BEGIN:DAYLIGHT
TZOFFSETFROM:+0100
TZOFFSETTO:+0200
TZNAME:CEST
DTSTART:20220327T010000
END:DAYLIGHT
BEGIN:STANDARD
TZOFFSETFROM:+0200
TZOFFSETTO:+0100
TZNAME:CET
DTSTART:20221030T010000
END:STANDARD
BEGIN:DAYLIGHT
TZOFFSETFROM:+0100
TZOFFSETTO:+0200
TZNAME:CEST
DTSTART:20230326T010000
END:DAYLIGHT
BEGIN:STANDARD
TZOFFSETFROM:+0200
TZOFFSETTO:+0100
TZNAME:CET
DTSTART:20231029T010000
END:STANDARD
BEGIN:DAYLIGHT
TZOFFSETFROM:+0100
TZOFFSETTO:+0200
TZNAME:CEST
DTSTART:20240331T010000
END:DAYLIGHT
BEGIN:STANDARD
TZOFFSETFROM:+0200
TZOFFSETTO:+0100
TZNAME:CET
DTSTART:20241027T010000
END:STANDARD
BEGIN:DAYLIGHT
TZOFFSETFROM:+0100
TZOFFSETTO:+0200
TZNAME:CEST
DTSTART:20250330T010000
END:DAYLIGHT
BEGIN:STANDARD
TZOFFSETFROM:+0200
TZOFFSETTO:+0100
TZNAME:CET
DTSTART:20251026T010000
END:STANDARD
END:VTIMEZONE
BEGIN:VEVENT
DTSTART;TZID=Europe/Amsterdam:20231029T170000
DTEND;TZID=Europe/Amsterdam:20240121T180000
DTSTAMP:20260422T055509
CREATED:20230919T083938Z
LAST-MODIFIED:20231030T161156Z
UID:9462-1698598800-1705860000@burg-vischering.de
SUMMARY:ART Vischering
DESCRIPTION:Die traditionelle Kunstausstellung ART Vischering kommt zurück nach Lüdinghausen: Einmal mehr präsentiert die Burg Vischering im Winter 2023 Werke ganz unterschiedlicher Künstlerinnen und Künstler. Etablierte Berühmtheiten der zeitgenössischen Kunst\, aber auch aufstrebende Kunstschaffende und Größen aus der Region steuern Arbeiten zu dieser Ausstellung bei. Grafiken\, Malereien und Keramik treffen bei der ART Vischering im Ambiente der historischen Wasserburg aufeinander. Wie jedes Jahr gibt es bei dieser Ausstellung auch wieder die Möglichkeit\, alles was gefällt\, direkt zu kaufen und mit nach Hause zu nehmen. \nMit Werken von: Julia Arztmann | Gert Bachmann | Heike Kati Barath | Hugo Boguslawski | Gabi Dahl | Marita Damkröger | Ulrike Donié | Francois du Plessis | Thomas Duttenhoefer | Claudia Ebbing | Maria Eggenkemper | Max Giermann | Mari Girkelidse | Dorthe Goeden | Andreas Gorke | Beate Höing | Max Immendorff | Gunilla Jähnichen | Andreas Junge | Barbara Kämereit | Susanne Kamps | Doris Kastner | HaPS | Per Kirkeby | Min Clara Kim | Hermann-Josef Kuhna | Sala Lieber | Markus Lüpertz | Nico Mares | Heiner Meyer | Armin Mueller Stahl | Sigrid Nienstedt | Sebastian Osterhaus | AR Penck | Milan Peschel | Stefan Pietryga | Klaus Prior | Sandra Pulina | Monika Radhoff-Troll | Lars Reiffers | Werner Reuber | Almuth Rusteberg | Paul Schwer | Caius Spillner | Daniel Spitzer | Eri Ständer | Marius Stutte | Ingrid Teiner | Antonia Thürich | Klaus Trawny | Gan-Endere Tsend | Narangerel Tsendsuren | Mechtild van Ahlers | Elly van der Graaf | Ludwig Maria Vongries | Anja Weinberg uvm. \nEintritt: 3\,50 € | erm. 2 € \nBild: Gabi Dahl\, Turbulenzen III (rot)\, Farbholzschnitt\, 40 x 60 cm \n  \nART Vischering digital
URL:https://burg-vischering.de/kulturprogramm/art-vischering-2023/
LOCATION:Burg Vischering\, Berenbrock 1\, Lüdinghausen\, Nordrhein-Westfalen\, 59348\, Deutschland
CATEGORIES:Ausstellung
ATTACH;FMTTYPE=image/jpeg:https://burg-vischering.de/wp-content/uploads/2023/09/ART-Vischering-1.jpg
ORGANIZER;CN="Burg Vischering":MAILTO:kultur@kreis-coesfeld.de
END:VEVENT
BEGIN:VEVENT
DTSTART;TZID=Europe/Amsterdam:20231102T200000
DTEND;TZID=Europe/Amsterdam:20231102T223000
DTSTAMP:20260422T055509
CREATED:20230824T171337Z
LAST-MODIFIED:20250704T114516Z
UID:9395-1698955200-1698964200@burg-vischering.de
SUMMARY:Harry Potter Fanquiz
DESCRIPTION:Quizabend in der Burg Vischering mit Zaubershow von Uwe Schenk\nAufgepasst liebe Muggel\, \nam 02. November 2023\, exakt um 20:00 Uhr\, findet wieder ein Harry Potter Fanquiz in der Burg Vischering in Lüdinghausen statt. Ihr kennt euch mit den Harry Potter Filmen aus und habt schon mal von den Büchern gehört? Dann seid ihr bei dem Quiz genau richtig. \nMitmachen können Teams von 2 bis 6 Mitspielern (ab 16 Jahren). Gesammelt werden bei dem Quiz Punkte für die richtigen Antworten. In unterschiedlichen Runden könnt ihr eurer Wissen über die Fantasy-Reihe unter Beweis stellen. Gespielt wird dabei selbstverständlich ohne Smartphone und Telefonjoker. \nNatürlich steht hier der Spaß und ein geselliger Abend im Kreise der Potter Fans im Vordergrund\, es gibt aber auch etwas zu gewinnen. Am Ende des Quiz werden alle Teams ausgezeichnet und es gibt tolle Preise für die besten drei Mannschaften. Zudem gibt es einen Sonderpreis für das Team mit dem besten Kostüm. Also\, holt eure Schuluniform raus und kommt in passender Verkleidung. \nWichtig zu wissen: In unserem Hogwarts Express (dem Saal der Burg Vischering) ist Platz für ca. 25 Teams. Pro Abteil (Tisch) finden 2-6 angehende Zauberer (Teilnehmer) Platz. Also nicht lange warten und am besten direkt anmelden. Zudem gibt es vorher ein Warm Up mit Magier Uwe Schenk von der Stiftung Zauberkunst aus Appelhülsen! \n  \nTeilnahmegebühr 10€ pro Person. Mindestalter 16 Jahre. Beim Kauf der Tickets wird automatisch ein Tisch reserviert. \nZum Ticketkauf bitte HIER klicken oder die Seite der QUIZFREUNDE besuchen.
URL:https://burg-vischering.de/kulturprogramm/harry-potter-fanquiz/
LOCATION:Burg Vischering\, Berenbrock 1\, Lüdinghausen\, Nordrhein-Westfalen\, 59348\, Deutschland
CATEGORIES:Allgemeine Veranstaltungen,Archiv-allgemeine-Veranstaltungen
ATTACH;FMTTYPE=image/jpeg:https://burg-vischering.de/wp-content/uploads/2023/08/Harry-Potter-Fanquiz-scaled.jpg
ORGANIZER;CN="Burg Vischering":MAILTO:kultur@kreis-coesfeld.de
END:VEVENT
BEGIN:VEVENT
DTSTART;TZID=Europe/Amsterdam:20231105T180000
DTEND;TZID=Europe/Amsterdam:20231105T200000
DTSTAMP:20260422T055509
CREATED:20230830T134329Z
LAST-MODIFIED:20231121T165737Z
UID:9413-1699207200-1699214400@burg-vischering.de
SUMMARY:Iro Haarla Electric Ensemble | Münsterland Festival part 12
DESCRIPTION:Farbenfrohe Klangwelten\nPianistin\, Harfenistin\, Komponistin und Bandleaderin – Iro Haarla gehört zu den bemerkenswertesten finnischen Jazz-Künstlern und -Künstlerinnen. Ihre Wurzeln liegen in der klassischen Musik\, doch nach ihrem Abschluss an der renommierten Sibelius-Akademie in Helsinki fand Haarla zum Jazz und etablierte sich in der starken finnischen Szene. Ihre lange Karriere beruht auf ihrer unverwechselbaren kreativen Kraft\, mit der sie modernen skandinavischen Jazz erschafft. \nZum Abschlusskonzert des Münsterland Festivals führt Haarla das Publikum nochmals auf musikalisches Neuland: Ihr Electric Ensemble bestehend aus Bassist Ulf Krokers\, Schlagzeugerin Aniida Vesala\, Tenorsaxophonist Sami Seippola und E-Gitarrist Jukka Orma webt eine überaus farbenfrohe Klangwelt um Haarlas Melodien. Gemeinsam erschaffen sie eine beschwingte Welt aus afro-amerikanischen Rhythmen\, akustischen Instrumenten\, Synthesizer und E-Gitarre. Mit dem Iro Haarla Electric Ensemble wird dem Publikum auf der Burg Vischering ein unvergesslicher Abschluss des Münsterland Festivals geboten. \nErmöglicht durch die Sparkasse Westmünsterland. \n  \nBesetzung \nIro Haarla Piano\, Harfe | Ulf Krokfors Bass | Aniida Vesala Schlagzeug | Sami Sippola Tenorsaxophon | Jukka Orma Elektrische Gitarre \n  \nTickets\nVVK 25 €/erm. 20 € | AK 30 €/erm. 25 € \nFür den Ticketkauf bitte HIER klicken. \n  \n \nDas Konzert ist Teil des Münsterland Festivals part 12.\nDie Musik und Kultur Finnlands stehen beim Münsterland Festival part 12 im Mittelpunkt. Vom 6. Oktober bis zum 5. November 2023 lädt das Münsterland zu zahlreichen Veranstaltungen an schönen und spannenden Orten in der Region ein\, dieses Mal mit dem „Land der 1000 Seen“ als Gastland. Künstlerinnen und Künstler aus Finnland nehmen die Besucherinnen und Besucher bei Konzerten\, Ausstellungen und Exkursionen mit auf eine kulturelle Entdeckungsreise. Veranstalter ist der Münsterland e.V. \n  \nFoto: Maarit Kytöharju
URL:https://burg-vischering.de/kulturprogramm/iro-haarla-electric-ensemble-muensterland-festival-part-12/
LOCATION:Burg Vischering\, Berenbrock 1\, Lüdinghausen\, Nordrhein-Westfalen\, 59348\, Deutschland
CATEGORIES:Archiv-Konzert,Konzert
ATTACH;FMTTYPE=image/jpeg:https://burg-vischering.de/wp-content/uploads/2023/08/Iro-Haarla-c-Maarit-Kytoeharju-scaled.jpg
ORGANIZER;CN="Burg Vischering":MAILTO:kultur@kreis-coesfeld.de
END:VEVENT
BEGIN:VEVENT
DTSTART;TZID=Europe/Amsterdam:20231117T193000
DTEND;TZID=Europe/Amsterdam:20231117T213000
DTSTAMP:20260422T055509
CREATED:20230915T103024Z
LAST-MODIFIED:20250704T114530Z
UID:9451-1700249400-1700256600@burg-vischering.de
SUMMARY:Elektronische Lesung: "Der Fall des Hauses Usher"
DESCRIPTION:Wohliges Schaudern bei Kerzenlicht\, eine virtuose Rezitation\, orchestrale Musik von einem Streichinstrument wie von Geisterhand: DIE KULTURTECHNIKER präsentieren Edgar Allan Poes weltberühmten Gruselklassiker „Der Fall des Hauses Usher“ in einer völlig neuen Bühnenfassung. \nIn ihrem Elektronischen Lesekonzert interagieren der Schauspieler Martin M. Hahnemann und der Cellist Ralf Werner auf eine spannende und verblüffende Art und Weise. \nDie Novelle aus dem Jahr 1839 erfährt eine Wiedergeburt als Musiktheater im elementaren Duoformat. Die eingesetzte Elektronik bereichert Rezitation und Musik gleichermaßen: Literatur beginnt zu grooven\, das Cello erzählt Klanggeschichten. So unterstreicht das Duo die vorgezeichnete Gruselstimmung und sorgt gleichzeitig für ironisch-humorvolle Momente. \nTickets\n12 € / erm. 10 € (online zzgl. VVK-Gebühr). Zum Ticketverkauf bitte HIER klicken. \nDiese Veranstaltung der Burg Vischering ist neben einigen anderen auch in Deiner KulturPass-App gelistet und für Dich buchbar. Der KulturPass ist ein Angebot der Bundesregierung für alle\, die 2023 ihren 18. Geburtstag feiern. Sie erhalten ab ihrem 18. Geburtstag ein Budget von 200 Euro\, das sie für Eintrittskarten\, Bücher\, CDs\, Platten und vieles andere einsetzen können. So wird Kultur vor Ort noch einfacher erlebbar.
URL:https://burg-vischering.de/kulturprogramm/musikalische-lesung-edgar-allen-poe/
LOCATION:Burg Vischering\, Berenbrock 1\, Lüdinghausen\, Nordrhein-Westfalen\, 59348\, Deutschland
CATEGORIES:Archiv-Konzert,Konzert
ATTACH;FMTTYPE=image/jpeg:https://burg-vischering.de/wp-content/uploads/2023/09/Lesekonzert-©Die-Kulturtechniker-scaled.jpg
ORGANIZER;CN="Burg Vischering":MAILTO:kultur@kreis-coesfeld.de
END:VEVENT
BEGIN:VEVENT
DTSTART;TZID=Europe/Amsterdam:20231119T193000
DTEND;TZID=Europe/Amsterdam:20231119T213000
DTSTAMP:20260422T055509
CREATED:20230925T120513Z
LAST-MODIFIED:20250704T114542Z
UID:9478-1700422200-1700429400@burg-vischering.de
SUMMARY:Milo\, Smith & Fimpel
DESCRIPTION:Kein geringerer als Nick Milo aus Los Angeles spielt mit diesem Trio erstmalig in Europa live. Nick war 11 Jahre lang der Keyboarder der US-Megaband „Tower of Power“\, bevor er von Joe Cocker engagiert wurde\, den Musical Director-Posten seiner Live-Band bis zu dessen Tode 13 Jahre lang zu übernehmen. Nick spielte mit Cocker und Tower of Power weltweit in über 70 Ländern. \nRichard Smith aus Los Angeles ist Professor für Jazz-Gitarre an der dortigen Universität und gibt Gast-Seminare von Sydney bis London. Er selbst spielt mit den ganz Großen der weltweiten Musikszene. Norbert Fimpel aus Argentinien spielte an der Seite von Nick Milo über 600 Shows für Joe Cocker. \nBesetzung\nNick Milo\, E-Piano / Richard Smith\, Gitarre / Norbert Fimpel\, Tenor- und Sopran-Saxophon\, chromatische Mundharmonika \nTickets\n20 € / erm. 17 € (online zzgl. VVK-Gebühren). Für den Ticketkauf bitte HIER klicken. \nFoto: © Oscar Lagarrotxa\, Nick Milo\, Richard Smith
URL:https://burg-vischering.de/kulturprogramm/9478/
LOCATION:Burg Vischering\, Berenbrock 1\, Lüdinghausen\, Nordrhein-Westfalen\, 59348\, Deutschland
CATEGORIES:Archiv-Konzert,Konzert
ATTACH;FMTTYPE=image/jpeg:https://burg-vischering.de/wp-content/uploads/2023/09/Fimpel-Bild-Website.jpg
END:VEVENT
END:VCALENDAR