BEGIN:VCALENDAR
VERSION:2.0
PRODID:-//burg-vischering - ECPv6.15.20//NONSGML v1.0//EN
CALSCALE:GREGORIAN
METHOD:PUBLISH
X-ORIGINAL-URL:https://burg-vischering.de
X-WR-CALDESC:Veranstaltungen für burg-vischering
REFRESH-INTERVAL;VALUE=DURATION:PT1H
X-Robots-Tag:noindex
X-PUBLISHED-TTL:PT1H
BEGIN:VTIMEZONE
TZID:Europe/Amsterdam
BEGIN:DAYLIGHT
TZOFFSETFROM:+0100
TZOFFSETTO:+0200
TZNAME:CEST
DTSTART:20220327T010000
END:DAYLIGHT
BEGIN:STANDARD
TZOFFSETFROM:+0200
TZOFFSETTO:+0100
TZNAME:CET
DTSTART:20221030T010000
END:STANDARD
BEGIN:DAYLIGHT
TZOFFSETFROM:+0100
TZOFFSETTO:+0200
TZNAME:CEST
DTSTART:20230326T010000
END:DAYLIGHT
BEGIN:STANDARD
TZOFFSETFROM:+0200
TZOFFSETTO:+0100
TZNAME:CET
DTSTART:20231029T010000
END:STANDARD
BEGIN:DAYLIGHT
TZOFFSETFROM:+0100
TZOFFSETTO:+0200
TZNAME:CEST
DTSTART:20240331T010000
END:DAYLIGHT
BEGIN:STANDARD
TZOFFSETFROM:+0200
TZOFFSETTO:+0100
TZNAME:CET
DTSTART:20241027T010000
END:STANDARD
END:VTIMEZONE
BEGIN:VEVENT
DTSTART;TZID=Europe/Amsterdam:20230618T080000
DTEND;TZID=Europe/Amsterdam:20231015T170000
DTSTAMP:20260422T070711
CREATED:20230328T115008Z
LAST-MODIFIED:20230825T074452Z
UID:9077-1687075200-1697389200@burg-vischering.de
SUMMARY:Spuren unserer Landschaft
DESCRIPTION:Das Thema Natur hat eine lange Geschichte in der Kunst. Als Hintergrundkulisse\, als Landschaftsmalerei\, Detailaufnahme oder Arbeitsmaterial. Die Sonderausstellung zeigt zwei Positionen\, die sich auf unterschiedliche Weise mit dem Thema Natur und Landschaft auseinandersetzen und in einen Dialog miteinander treten. Zum einen wird die spätimpressionistische Landschaftsmalerei des Münsteraner Künstlers Carl Müller-Tenckhoff (1873 – 1936) gezeigt\, der verschiedene Perspektiven auf westfälische Landschaften eröffnet. Dem gegenüber stehen zeitgenössische Positionen von Veronika Teigeler. Inspiriert von Beobachtungen\, Entdeckungen und Funden in der Natur\, gestaltet sie ihre Arbeiten in Form von Malerei\, Objekten\, Installationen und Fotografie. Dabei laden einzigartige Interpretationen und Inszenierungen von Natur dazu ein\, über die eigene Umwelt zu reflektieren. \n  \nZur feierlichen Ausstellungseröffnung am 18. Juni um 17 Uhr lädt der Kreis Coesfeld herzlich ein. Die Teilnahme an der Vernissage ist kostenlos. \nKosten: 3\,5 € / erm. 2 €
URL:https://burg-vischering.de/kulturprogramm/spuren-unserer-landschaft/
LOCATION:Burg Vischering\, Berenbrock 1\, Lüdinghausen\, Nordrhein-Westfalen\, 59348\, Deutschland
CATEGORIES:Archiv-allgemeine-Veranstaltungen,Ausstellung
ATTACH;FMTTYPE=image/jpeg:https://burg-vischering.de/wp-content/uploads/2023/03/Spuren_unserer_Landschaft_Carl-Mueller-Tenckhoff_Veronika_Teigeler_Kunst_Ausstellung_Burg_Vischering_Luedinghausen.jpg
ORGANIZER;CN="Burg Vischering":MAILTO:kultur@kreis-coesfeld.de
END:VEVENT
BEGIN:VEVENT
DTSTART;VALUE=DATE:20230901
DTEND;VALUE=DATE:20230904
DTSTAMP:20260422T070711
CREATED:20230207T114050Z
LAST-MODIFIED:20230904T141457Z
UID:8923-1693526400-1693785599@burg-vischering.de
SUMMARY:ANNOTOPIA Fantasyfestival Lüdinghausen
DESCRIPTION:Fr\, 1.9.2023: 18 bis 24 Uhr (Warm-up)\nSa\, 2.9.2023: 11 bis 24 Uhr\nSo\, 3.9.2023: 11 bis 19 Uhr\nDeutschlands wohl außergewöhnlichstes Festival feiert in Lüdinghausen sein erstes kleines Jubiläum: zum 5. Mal verwandelt ANNOTOPIA die Wasserburgenlandschaft in dem westfälischen Städtchen zwischen Münster und Dortmund wieder in eine schräge Welt voller Magie und Herzlichkeit. Vom 01. – 03. September 2023 lädt der zeitreisende Professor Abraxo seine Begegnungen aus Raum und Zeit sowie alle neugierigen Besucher von klein bis groß in eine fantastische Welt. \nKeine Konventionen oder Schranken\, kein richtig oder falsch: rund 750 Mitwirkende aus halb Europa werden das riesige Areal zwischen Burg Lüdinghausen und Burg Vischering in eine bunte\, kuriose Abenteuer-Welt verwandeln. Das Event und seine Figuren sind ein bisschen verrückt und teilweise bizarr. Sie sind aber vor allem eines – sehr herzlich. In ANNOTOPIA treffen Besuchende auf urzeitliche Dinosaurier\, futuristisch-fiktionäre Star-Wars Helden\, Orks\, Feen\, Elfen\, Zwerge\, Wikinger\, Piraten\, Römer und mittelalterliche Ritter. Zu sehen sein werden spannende Inszenierungen aus Entertainment und Schauspiel\, Zauberei und Jonglage\, Feuerartistik\, Magie und Akrobatik. Darüber hinaus gibt es viel Livemusik sowie spektakuläre Fahrzeuge. \nMit Shows\, Interaktionen\, Markttreiben\, Artistik\, kulinarischen Spezialitäten und vielem mehr werden die Besuchenden von jung bis alt in ANNOTOPIA unterhalten\, bespaßt und verwöhnt. So können sie für einige Stunden abtauchen in eine andere Welt\, weit ab von den irdischen Problemen dieser Zeit. \nErstmals geht es bereits am Freitagabend ab 18 Uhr los:\nAn der Hauptbühne (Burg Vischering) startet das Festival mit einem Warm-up und fantastischem Programm: Mit Nathanael erlebt ihr ein Synonym für düstere Romantik\, La Bohème und Wahnsinn; tiefgründige Texte\, harte Riffs und eingängige Melodien\, die euch den Verstand rauben werden! Das Duo Wetingar zeigt außergewöhnliche Jounglage bevor die britische Endzeit-Formation V2A vom Publikum gefeiert wird. Dazu liefert an diesem Abend die Steamshow aus Minsk/Belarus eine artistische Feuer- und LED-Show. Eintritt für den Freitag: 10 € (Ermäßigt 5 €) an der Abendkasse oder mit dem Wochenendticket. \nAm Samstag und Sonntag können sich die Gäste dann u. a. freuen auf:\n• Drache Fangdorn: „der letzte noch lebende Drache der Welt“\, ist mit 10 Meter Länge und fast 3 Meter Höhe ein imposantes\, voll autarkes und sich natürlich bewegendes\, kinetisches Kunstobjekt. Er kann laufen\, sich blitzschnell drehen\, meterlange Flammen speien\, Rauch aus seinem Maul und Nüstern blasen\, bluten\, mit seinem Dornenschwanz peitschen\, mit seinen Flügeln schlagen\, brüllen\, schnaufen\, knurren. lieblich mit den Augen zwinkern\, aber auch gefährlich mit den Artisten und Kaskadeuren kämpfen.\n• Harmony Glen (Niederlande): Die Musik von Harmony Glen ist der Inbegriff einer keltischen Party! Es ist Power-Folk mit irischen und schottischen Wurzeln\, unwiderstehlichen Beats und Texten zum Wohlfühlen.\n• Steam Show (Minsk\, Belarus): Drachen\, Akrobatik\, Lightshow\, Stelzen … man muss diese Jungs und Mädels einfach erleben!\n• Atomic Circus (Deutschland): erster und einziger postapokalyptischer Zirkus\, schräg und fantastisch; zweimal täglich wird hier eine kuriose Zirkusshow wie aus einer längst vergangen geglaubten Zeit voller Magie. Luftakrobatinnen\, Zauberer\, Clowns\, Feuerartisten u.v.m. (www.atomiqcircus.de)\n• Caesar und seine römische Legion (Italien): inkl. Legionärsausbildung für Nachwuchskräfte zur Zivilisation der germanischen Barbaren\n• Kelvin Kalvus zeigt ausgefallene Shows mit seinen Glaskugeln\n• Wasteland Warriors: der wohl größte Stamm von leidenschaftlichen Künstlern aus der ganzen Welt\, die alles Postapokalyptische zum Leben erwecken!\n• Dead End Desire: Endzeit-Rock\n• V2A (England): die weltbekannte Endzeit-Band\n• Abacus Theater (Niederlande): sie begeistern die Besucher mit ihren fantastischen Maschinen (u. a. dem Steamroadstar)\, die aussehen als ob sie gerade einem\nFantasyroman entsprungen wären.\n• Heiter bis Wolkig: Punk\, Musik & Kabarett\n• Nonsenso: venizianische Gondolieri als musikalischer Walkact \nAußerdem: viele außergewöhnliche Cosplays wie zB. Ant-Man und weitere Marvel Helden\, Star-Wars\, Haus der Eulen\, sowie einen extra aus den Niederlanden angereisten Cosplay Repair Stand\, außerdem gibt es wilde Piraten und Ritter zu bestaunen. Zusätzlich findet ihr vor Ort auch die „Streetbirds“\, das Dampfbad\, die Pirates-Magic-Show u.v.m. \nDa ist also für jeden\, ob jung oder jung geblieben\, Familien\, Feierlustige und Kulturbegeisterte\, eine Menge dabei. Ein paar Stunden sollte man allerdings einplanen\, um besser nichts zu verpassen. Oder man bucht direkt das günstige Wochenend-Ticket (gültig für alle drei Tage!). Für Lebensgemeinschaften mit Kindern gibt es außerdem das lukrative Familien-Ticket (gültig natürlich auch z. B. für gleichgeschlechtliche Paare\, Großeltern und alle eigenen Sprößlinge bis 15 Jahre). \nTickets gibt es u.a. im Torhaus der Burg Vischering oder ONLINE zu erwerben. ACHTUNG: Vorverkaufspreise gelten nur noch bis zum 27. August 2023\, danach\nwerden Tickets nur noch zu den regulären Tageskassenpreisen angeboten. \nFoto: Lukas Bertels\, Kreis Coesfeld
URL:https://burg-vischering.de/kulturprogramm/annotopia-fantasyfestival-luedinghausen/
LOCATION:u.a. Burg Vischering
CATEGORIES:Archiv-allgemeine-Veranstaltungen
ATTACH;FMTTYPE=image/jpeg:https://burg-vischering.de/wp-content/uploads/2023/02/Annotopia-Veranstaltungsfoto.jpg
END:VEVENT
BEGIN:VEVENT
DTSTART;TZID=Europe/Amsterdam:20230907T190000
DTEND;TZID=Europe/Amsterdam:20230907T210000
DTSTAMP:20260422T070711
CREATED:20230904T142107Z
LAST-MODIFIED:20250704T114326Z
UID:9432-1694113200-1694120400@burg-vischering.de
SUMMARY:Lesung: Thomas Erdmann - Via Velo
DESCRIPTION:Nachdem er sein neues Buch bereits mit großem Erfolg in seinem Heimatort Nordkirchen vorgestellt hat\, ist der Autor Thomas Erdmann am kommenden Donnerstag (07. September 2023) um 19:00 Uhr auch auf Burg Vischering in Lüdinghausen zu Gast. Dort liest er aus seinem autobiographischen Erstlingswerk „Via Vélo“\, das als Buch auf Bestellung für 10\,99 EUR online geordert werden kann. \nIn seinem Buch beschreibt Thomas Erdmann (Jahrgang 1964) seine Reise mit dem Fahrrad nach Südfrankreich\, indem er seine Erlebnisse und Gedanken während der Tour teilt. Er erlebt die verschiedenen Landschaften und Traditionen unseres Nachbarlandes und schildert\, wie er die Herausforderungen der Reise gemeistert hat. Doch es geht nicht nur um eigene Abenteuer und Erlebnisse\, sondern auch um die Spuren von Erdmanns Vater\, der in Frankreich als Soldat in Kriegsgefangenschaft genommen wurde. Für Thomas Erdmann\, der in einem Kunstmuseum in Münster arbeitet\, hat es eine besondere Bedeutung\, diese Reise zu unternehmen – und jene Orte zu besuchen\, die sein Vater vor so vielen Jahren gesehen hat. Durch die Reise kommt er seinem Vater näher und kann auf sehr persönliche Art und Weise dessen Erlebnisse nachvollziehen. Und er kann nicht ausschließen\, dass noch weitere Bücher folgen. \nEintritt frei \nFoto: Thomas Erdmann \n 
URL:https://burg-vischering.de/kulturprogramm/lesung-thomas-erdmann-via-velo/
LOCATION:Burg Vischering\, Berenbrock 1\, Lüdinghausen\, Nordrhein-Westfalen\, 59348\, Deutschland
CATEGORIES:Allgemeine Veranstaltungen,Archiv-allgemeine-Veranstaltungen
ATTACH;FMTTYPE=image/jpeg:https://burg-vischering.de/wp-content/uploads/2023/09/Via-Velo-Thomas-Erdmann-scaled.jpg
ORGANIZER;CN="Burg Vischering":MAILTO:kultur@kreis-coesfeld.de
END:VEVENT
BEGIN:VEVENT
DTSTART;VALUE=DATE:20230908
DTEND;VALUE=DATE:20230909
DTSTAMP:20260422T070711
CREATED:20230517T103003Z
LAST-MODIFIED:20250704T114339Z
UID:9211-1694131200-1694217599@burg-vischering.de
SUMMARY:Freuynde und Gaesdte
DESCRIPTION:Nacht auf der Bounty \nIn den verschiedenen Hollywoodfilmen über die berühmte Meuterei auf der Bounty sind die Rollen eindeutig verteilt: Captain Bligh ein sadistischer Tyrann\, der Meuterer Maat Fletcher Christian hingegen ein edler Rebell. Aber so einfach war die Sache in Wirklichkeit nicht. Das zeigt sich schon daran\, dass eine jahrelange Freundschaft die beiden Streithähne miteinander verband. Aber wie kam es dann zu der legendären Eskalation?\nIn der spannenden Inszenierung des Theaters Freuynde und Gaesdte stellen sich die beiden Widersacher dieser Frage. Anhand originaler historischer Quellen hat das Ensemble die Fakten vom 28. April1789 recherchiert und präsentiert – nun\, vielleicht nicht die endgültige historische Wahrheit\, aber doch eine faszinierende Rekonstruktion der Ereignisse. Für ein unvergleichliches Theatererlebnis nehmen die Gäste in Rafftingbooten links und rechts des Rettungssteges Platz. \nEs spielen Helge Salnikau (als Fletcher Christian) und Zeha Schröder (als William Bligh). \nFr\, 8. Sep & Sa\, 9. Sep | 19:30 Uhr \n  \nFür den Ticketkauf bitte HIER klicken. \n  \nFoto: (c) Salnikau
URL:https://burg-vischering.de/kulturprogramm/freuynde-und-gaesdte/
LOCATION:Burg Vischering\, Berenbrock 1\, Lüdinghausen\, Nordrhein-Westfalen\, 59348\, Deutschland
CATEGORIES:Allgemeine Veranstaltungen,Archiv-allgemeine-Veranstaltungen
ATTACH;FMTTYPE=image/jpeg:https://burg-vischering.de/wp-content/uploads/2023/05/BV_Events_Vorlage-08-2022.jpg
ORGANIZER;CN="Burg Vischering":MAILTO:kultur@kreis-coesfeld.de
END:VEVENT
BEGIN:VEVENT
DTSTART;VALUE=DATE:20230909
DTEND;VALUE=DATE:20230910
DTSTAMP:20260422T070711
CREATED:20230714T120116Z
LAST-MODIFIED:20250704T114348Z
UID:9310-1694217600-1694303999@burg-vischering.de
SUMMARY:Freuynde und Gaesdte
DESCRIPTION:Nacht auf der Bounty \nIn den verschiedenen Hollywoodfilmen über die berühmte Meuterei auf der Bounty sind die Rollen eindeutig verteilt: Captain Bligh ein sadistischer Tyrann\, der Meuterer Maat Fletcher Christian hingegen ein edler Rebell. Aber so einfach war die Sache in Wirklichkeit nicht. Das zeigt sich schon daran\, dass eine jahrelange Freundschaft die beiden Streithähne miteinander verband. Aber wie kam es dann zu der legendären Eskalation?\nIn der spannenden Inszenierung des Theaters Freuynde und Gaesdte stellen sich die beiden Widersacher dieser Frage. Anhand originaler historischer Quellen hat das Ensemble die Fakten vom 28. April1789 recherchiert und präsentiert – nun\, vielleicht nicht die endgültige historische Wahrheit\, aber doch eine faszinierende Rekonstruktion der Ereignisse. Für ein unvergleichliches Theatererlebnis nehmen die Gäste in Rafftingbooten links und rechts des Rettungssteges Platz. \nEs spielen Helge Salnikau (als Fletcher Christian) und Zeha Schröder (als William Bligh). \nFr\, 8. Sep & Sa\, 9. Sep | 19:30 Uhr \nZum Ticketkauf bitte HIER klicken. \nFoto: (c) Salnikau
URL:https://burg-vischering.de/kulturprogramm/freuynde-und-gaesdte-duplicate-9211/
LOCATION:Burg Vischering\, Berenbrock 1\, Lüdinghausen\, Nordrhein-Westfalen\, 59348\, Deutschland
CATEGORIES:Allgemeine Veranstaltungen,Archiv-allgemeine-Veranstaltungen
ATTACH;FMTTYPE=image/jpeg:https://burg-vischering.de/wp-content/uploads/2023/05/BV_Events_Vorlage-08-2022.jpg
ORGANIZER;CN="Burg Vischering":MAILTO:kultur@kreis-coesfeld.de
END:VEVENT
BEGIN:VEVENT
DTSTART;TZID=Europe/Amsterdam:20230909T160000
DTEND;TZID=Europe/Amsterdam:20230909T180000
DTSTAMP:20260422T070711
CREATED:20230717T140827Z
LAST-MODIFIED:20250704T114357Z
UID:9313-1694275200-1694282400@burg-vischering.de
SUMMARY:Jumelage 23 – Pan-European-Jazzquintett
DESCRIPTION:Im August 2023 kommen fünf hochrangige Musiker aus Partnerstädten des Münsterlandes zusammen. Dieses Treffen\, organisiert auf Einladung des Musikers Sebastian Netta\, markiert den Beginn des Projekts Jumelage. Die Idee: In den Partnergemeinden des Münsterlandes gibt es professionelle Musikschaffende\, die auf hohem Niveau Jazz spielen. Diese erlesene Gruppe trifft sich nun\, um ein Programm zu erarbeiten\, das den Geist des Jazz und der Improvisation atmet und die kreative Vielfalt Europas zum Ausdruck bringt. \nJeder der Musiker repräsentiert eine einzigartige Verbindung innerhalb Europas: Theo deJong aus den Niederlanden steht für Coesfeld und de Bilt\, Raphaelle Brochet aus Taverny bei Paris für Lüdinghausen\, Kestutis Vaiginis aus Trakai (Vilnius\, Litauen) für Rheine und den Kreis Steinfurt\, und Przemek Strączek aus Jastrzębie-Zdrój in Polen für Ibbenbüren und Sebastian Netta für das Münsterland. \nIn einer Welt\, die oft von Konflikten und politischen Spannungen geprägt ist\, erinnert das Projekt Jumelage daran\, dass Musik und Kunst mächtige Botschaften der Hoffnung und des Friedens sein können. \nEintritt: frei \nFoto: © Sebastian Netta
URL:https://burg-vischering.de/kulturprogramm/jumelage-23-pan-european-jazzquintett/
LOCATION:Burg Vischering\, Berenbrock 1\, Lüdinghausen\, Nordrhein-Westfalen\, 59348\, Deutschland
CATEGORIES:Archiv-Konzert,Konzert
ATTACH;FMTTYPE=image/jpeg:https://burg-vischering.de/wp-content/uploads/2023/07/The-Quintett-Jumelage-©Sebastian-Netta-scaled.jpg
ORGANIZER;CN="Burg Vischering":MAILTO:kultur@kreis-coesfeld.de
END:VEVENT
BEGIN:VEVENT
DTSTART;VALUE=DATE:20230910
DTEND;VALUE=DATE:20230911
DTSTAMP:20260422T070711
CREATED:20230718T162851Z
LAST-MODIFIED:20250704T114410Z
UID:9317-1694304000-1694390399@burg-vischering.de
SUMMARY:Tag des offenen Denkmals
DESCRIPTION:Am Tag des offenen Denkmals gibt es sowohl an der Burg Vischering als auch an der Kolvenburg wieder spannende und kostenfreie Einblicke in die Räumlichkeiten der altehrwürdigen Adelssitze und die dort aktuell gezeigten Kunstausstellungen: \n  \nBurg Vischering \n10 – 18 Uhr Kunstausstellung „Spuren unserer Landschaft“ \n11 Uhr Architekturführung \n13 Uhr Architekturführung \n15 Uhr Falkner-Vorführung \n  \nDer Kreis Coesfeld hat eine Broschüre zum Tag des offenen Denkmals veröffentlicht: \nTag des offenen Denkmals im Kreis Coesfeld \n  \nEintritt: frei
URL:https://burg-vischering.de/kulturprogramm/tag-des-offenen-denkmals-4/
LOCATION:Burg Vischering\, Berenbrock 1\, Lüdinghausen\, Nordrhein-Westfalen\, 59348\, Deutschland
CATEGORIES:Allgemeine Veranstaltungen,Archiv-allgemeine-Veranstaltungen
ATTACH;FMTTYPE=image/jpeg:https://burg-vischering.de/wp-content/uploads/2023/07/Burg-Vischering-©Muensterland-e.V.-Philipp-Foelting-scaled.jpg
ORGANIZER;CN="Burg Vischering":MAILTO:kultur@kreis-coesfeld.de
END:VEVENT
BEGIN:VEVENT
DTSTART;TZID=Europe/Amsterdam:20230917T110000
DTEND;TZID=Europe/Amsterdam:20230917T170000
DTSTAMP:20260422T070711
CREATED:20230531T144931Z
LAST-MODIFIED:20250704T114420Z
UID:9222-1694948400-1694970000@burg-vischering.de
SUMMARY:Kunst im Park
DESCRIPTION:Kunst zum Schauen\, Anfassen und mit nach Hause nehmen\n„Kunst im Park“ heißt eine große Open-Air Veranstaltung\, die am 17. September zum sechsten Mal den Park zwischen den beiden Burgen Lüdinghausen und Vischering beleben wird. Nach dem bekannten Enscheder Vorbild „Kunst in het Volkspark“ bedeutet auch „Kunst im Park“ Kunst zum Schauen\, Anfassen und mit nach Hause nehmen und das alles in entspannter Freiluft-Atmosphäre. \nUnter federführender Leitung der Kulturabteilung des Kreises Coesfeld sind Galerien\, Profi- und Amateurkünstlerinnen und -künstler gleichermaßen aufgerufen\, ihre Kunst zu präsentieren. Dazu wird jeder Galerie und jeder/m Künstler/in ein überdachter Stand auf dem Veranstaltungsgelände zur Verfügung gestellt\, in welchem die Werke präsentiert und verkauft werden können. Auch dieses Jahr wird wieder der beste Künstler/die beste Künstlerin von einer Jury gekürt. Der Preis ist mit 500 Euro dotiert. Der Preisträger/die Preisträgerin darf zudem an der diesjährigen ART VISCHERING teilnehmen\, der beliebten Verkaufsausstellung\, die ab dem 29. Oktober 2023 auf Burg Vischering mit zahlreichen renommierten und jungen Künstlerinnen und Künstlern im Nebeneinander zu sehen sein wird. \n  \nFür teilnehmende Künstlerinnen und Künstler haben wir folgende FAQ (Frequently Asked Questions) zusammengestellt: \nWerden Stände zur Verfügung gestellt?\nJa! Der Stand besteht aus einem überdachten Zelt mit der Traufhöhe von 1\,80 m und einer Firsthöhe von 2\,30 m. Eine Tischfläche von 1 m x 4 m steht Ihnen zur Präsentation Ihrer Kunst zur Verfügung. Für weitere Tische\, Staffeleien und andere persönliche Einrichtungswünsche\, wie Stühle/ Hocker etc.\, bitten wir Sie selbst zu sorgen. Da es keine Schlecht-Wetter Alternative gibt\, schlagen wir vor\, dass Sie Planen etc. mitbringen\, mit der Sie bei Regen Ihre Kunst schützen. Gerne können Sie auch den Bereich um Ihre Stände zur Präsentation nutzen. Hier ist genügend Freifläche vorgesehen. Die Konstruktion des Standes gestattet leider nicht das Aufhängen oder anderweitige Befestigen von Ausstellungsgut am Gerüst oder der Plane. \nKann ich meinen eigenen Stand mitbringen?\nUm ein einheitliches Bild zu gewährleisten\, ist es nicht vorgesehen\, einen eigenen Stand oder Pavillon mitzubringen. \nWann geht es los?\nJe nach Standort ist die Aufbauphase zwischen 8.30 Uhr und 9.30 Uhr. Über die jeweilige Anreise- und Aufbauphase wird jeder Teilnehmende per E-Mail informiert. \nWelche Künstlerinnen und Künstler nehmen an Kunst im Park 2023 teil?\nÜbersicht Teilnehmende Kunst im Park 2023 \nWo wird mein Standplatz sein?\nLageplan Kunst im Park 2023 \nIst jeder zugewiesene Standplatz mit dem PKW erreichbar?\nDie StadtLandschaft als Veranstaltungsfläche zwischen den Burgen ist nicht mit dem PKW befahrbar. Ausnahmen bilden hier einzelne Ausstellende\, die der Kreis Coesfeld im Vorfeld über diese Option informiert. Der Kunsttransport vom Parkplatz zum zugewiesenen Standplatz wird von Mitarbeitenden des Kreises Coesfeld unterstützt. \nWo kann ich meinen PKW parken?\nJe nach Standplatz wird ein Parkplatz in der Nähe zugeteilt\, auf dem der PKW während der Veranstaltung stehen kann. \nWie läuft die Preisvergabe ab?\nWährend der Veranstaltung läuft eine dreiköpfige Fach-Jury über das Gelände und begutachtet jeden einzelnen Stand. Im Laufe der Veranstaltung wird dann der Gewinner oder die Gewinnerin gekürt und der Preis übergeben. \nGibt es Verpflegung?\nBei Kunst im Park wird es warmes Catering geben\, außerdem ein Coffeebike und weitere Getränkestände. Jede/r Ausstellende bekommt je einen Gutschein für eine Mahlzeit\, einen Kaffee und ein Getränk. \nWas passiert bei schlechtem Wetter?\nDer Kreis Coesfeld als Veranstalter behält sich vor\, Kunst im Park auch kurzfristig abzusagen. Informationen dazu werden über die Website und direkt per Mail gesteuert. \nWie kann ich selbst für die Veranstaltung werben?\nUm auch als Ausstellende Werbung für Kunst im Park machen zu können\, hat der Kreis Coesfeld eine digitale Mappe zusammengestellt\, aus der Veranstaltungsposter\, Storyvorlagen u.ä. kostenfrei heruntergeladen werden können. Dafür bitte HIER klicken. \n  \nFoto: Kreis Coesfeld\, Lukas Bertels
URL:https://burg-vischering.de/kulturprogramm/kunst-im-park-4/
LOCATION:Burg Vischering\, Berenbrock 1\, Lüdinghausen\, Nordrhein-Westfalen\, 59348\, Deutschland
CATEGORIES:Allgemeine Veranstaltungen,Archiv-allgemeine-Veranstaltungen
ATTACH;FMTTYPE=image/jpeg:https://burg-vischering.de/wp-content/uploads/2023/05/Kunst_im_Park_Burg_Vischering_Luedinghausen_Kunstmarkt_Stadtlandschaft_Markt.jpg
ORGANIZER;CN="Burg Vischering":MAILTO:kultur@kreis-coesfeld.de
END:VEVENT
BEGIN:VEVENT
DTSTART;TZID=Europe/Amsterdam:20230917T190000
DTEND;TZID=Europe/Amsterdam:20230917T210000
DTSTAMP:20260422T070711
CREATED:20230718T171013Z
LAST-MODIFIED:20250704T114438Z
UID:9324-1694977200-1694984400@burg-vischering.de
SUMMARY:Isfar Sarabski Quartet
DESCRIPTION:Genügend Lorbeeren hat sich der 31 Jahre junge Pianist\, Komponist und Arrangeur in der letzten Dekade live erarbeitet\, um Theatersäle von beträchtlichen Größen zwischen seiner aserbaidschanischen Heimatstadt Baku\, Berlin\, New York und Los Angeles füllen zu können. Isfar Sarabski begeistert sein Publikum mit sensibler und atemberaubender Musik\, Klassik und Jazz\, Standards und Eigenkompositionen\, und ist immer in Bewegung. Sein Spiel ist fließend\, kunstvoll und aufregend. Er lebt seine Musik\, und das spürt auch das Publikum. \nEintritt: 20€ / erm. 17€ (online zzgl. VVK-Gebühr) \nZum Ticketkauf bitte HIER klicken. \nFoto: o-tune music
URL:https://burg-vischering.de/kulturprogramm/isfar-sarabski-quartet/
LOCATION:Burg Vischering\, Berenbrock 1\, Lüdinghausen\, Nordrhein-Westfalen\, 59348\, Deutschland
CATEGORIES:Archiv-BurgJazz,Archiv-Konzert,Archive-BurgJazz,Konzert
ATTACH;FMTTYPE=image/jpeg:https://burg-vischering.de/wp-content/uploads/2023/07/Isfar-Sarabski-Quartet-©o-tone-music-1-scaled.jpg
ORGANIZER;CN="Burg Vischering":MAILTO:kultur@kreis-coesfeld.de
END:VEVENT
END:VCALENDAR