BEGIN:VCALENDAR
VERSION:2.0
PRODID:-//burg-vischering - ECPv6.15.20//NONSGML v1.0//EN
CALSCALE:GREGORIAN
METHOD:PUBLISH
X-ORIGINAL-URL:https://burg-vischering.de
X-WR-CALDESC:Veranstaltungen für burg-vischering
REFRESH-INTERVAL;VALUE=DURATION:PT1H
X-Robots-Tag:noindex
X-PUBLISHED-TTL:PT1H
BEGIN:VTIMEZONE
TZID:Europe/Amsterdam
BEGIN:DAYLIGHT
TZOFFSETFROM:+0100
TZOFFSETTO:+0200
TZNAME:CEST
DTSTART:20200329T010000
END:DAYLIGHT
BEGIN:STANDARD
TZOFFSETFROM:+0200
TZOFFSETTO:+0100
TZNAME:CET
DTSTART:20201025T010000
END:STANDARD
BEGIN:DAYLIGHT
TZOFFSETFROM:+0100
TZOFFSETTO:+0200
TZNAME:CEST
DTSTART:20210328T010000
END:DAYLIGHT
BEGIN:STANDARD
TZOFFSETFROM:+0200
TZOFFSETTO:+0100
TZNAME:CET
DTSTART:20211031T010000
END:STANDARD
BEGIN:DAYLIGHT
TZOFFSETFROM:+0100
TZOFFSETTO:+0200
TZNAME:CEST
DTSTART:20220327T010000
END:DAYLIGHT
BEGIN:STANDARD
TZOFFSETFROM:+0200
TZOFFSETTO:+0100
TZNAME:CET
DTSTART:20221030T010000
END:STANDARD
END:VTIMEZONE
BEGIN:VEVENT
DTSTART;VALUE=DATE:20210613
DTEND;VALUE=DATE:20210927
DTSTAMP:20260421T154431
CREATED:20210520T163736Z
LAST-MODIFIED:20210812T114740Z
UID:4207-1623542400-1632700799@burg-vischering.de
SUMMARY:Hermann Nitsch. Farbe als Material
DESCRIPTION:Mit dem österreichischen Maler und Aktionskünstler Hermann Nitsch präsentiert das Museum Burg Vischering ab Sommer einen internationalen Ausnahmekünstler ohnegleichen\, dessen Werke in allen bedeutenden öffentlichen wie privaten Sammlungen auf der ganzen Welt vertreten sind. Im Mittelpunkt der Ausstellung stehen die „Schüttbilder“\, bei denen Nitsch die Farbe aus seinem Behältnis mittels Rinnens\, Schüttens und Schmierens in impulsiven Bewegungen direkt auf den Bildträger gibt.  Dabei folgt auch im hohen Alter sein ganzer Körper dem Rhythmus seiner Bewegungen\, der Impulsivität von Gefühlseruptionen\, wobei der Malprozess im Vordergrund steht\, dem Zufall Tür und Tor geöffnet werden. \nSeit über 50 Jahren schreibt Hermann Nitsch mit seinen Aktionen\, Bildern und Performances Kunstgeschichte und hat darüber hinaus auch die Opern- und Theaterlandschaft im deutschsprachigen Raum geprägt. Dementsprechend geht sein künstlerisches Schaffen weit über das Medium der Malerei hinaus und artikuliert sich als ein dynamisches Gesamtkunstwerk aus Malerei\, Theater\, Musik und Dichtung\, in dem Mythologie\, Religion und Philosophie zu einer faszinierenden Einheit verschmelzen. Die Ausstellung ist zugleich Teil des Münsterland Festivals 2021 und findet in Kooperation mit der Galerie Geuer und Geuer statt. \nIm Rahmen der Ausstellung werden auch Führungen mit der Künstlerin Doris Kastner für max. 19 Gäste angeboten: \nSonntag\, 22. August\, 15 Uhr \nSonntag\, 12. September\, 15 Uhr \nAnmeldung unter 02591 7990-0 oder per Mail an: kultur@kreis-coesfeld.de \nDie Führung am 12.9. ist im Rahmen des Tags des offenen Denkmals komplett kostenlos\, für den Termin im August ist lediglich der Ausstellungseintritt von 3\,50€ (ermäßigt 2€) zu begleichen. \nZudem können individuelle Führungen für Einzelpersonen und Gruppen für maximal 19 Gäste zum Preis von 70 Euro zzgl. Ausstellungseintritt gebucht werden. \nFoto: Hermann Nitsch: Schüttbild mit Malerhemd\, 2017\, Acryl auf Leinwand\, 200 x 300 cm\, © VG Bild-Kunst\, Bonn 2021
URL:https://burg-vischering.de/kulturprogramm/hermann-nitsch-farbe-als-material/
LOCATION:Burg Vischering\, Berenbrock 1\, Lüdinghausen\, Nordrhein-Westfalen\, 59348\, Deutschland
CATEGORIES:Ausstellung
ATTACH;FMTTYPE=image/jpeg:https://burg-vischering.de/wp-content/uploads/2021/05/Hermann-Nitsch-Schuettbild-mit-Malerhemd-2017-Acryl-auf-Leinwand-200-x-300-cm-©-VG-Bild-Kunst-Bonn-2021.jpg
END:VEVENT
BEGIN:VEVENT
DTSTART;TZID=Europe/Amsterdam:20210613T170000
DTEND;TZID=Europe/Amsterdam:20210926T180000
DTSTAMP:20260421T154431
CREATED:20210528T083610Z
LAST-MODIFIED:20210528T083735Z
UID:4234-1623603600-1632679200@burg-vischering.de
SUMMARY:Hermann Nitsch. Paint as Material
DESCRIPTION:This summer the Vischering Castle Museum will present the Austrian painter and performance artist\, Hermann Nitsch\, an international exceptional artist without equal\, whose works are represented in public and private collections all over the world. In the focus of the exhibition are “splatter paintings” where Nitsch applies the paint out of his container by letting the paint run\, by pouring and stroking it with impulsive movements directly onto the picture base. Even at his advanced age\, his whole body follows the rhythm of his movements\, the impulse of emotional eruptions\, focussing on the painting process and allowing a random effect. \nHermann Nitsch\, with his art events\, paintings and performances\, has been creating art history for over 50 years\, and beyond that\, he has shaped the opera- and theatrical landscape in the German-speaking world. Thus\, his artistic work goes far beyond the medium of painting. It articulates itself as a dynamic synthesis of painting\, theatre\, music and poetry where mythology\, religion and philosophy merge into one fascinating entity. The exhibition is also part of the Münsterland Festival 2021\, and it will take place in co-operation with the Gallery Geuer and Geuer. \nWe cordially invite you to the opening of the exhibition on Sunday\, June 13th at 5 pm. Registration for the event will be possible via our website shortly. \nPhoto: Hermann Nitsch: splatter painting with painter’s shirt\, 2017\, acrylic on canvas\, 200 x 300 cm\, VG Bild-Kunst\, ©Bonn 2021
URL:https://burg-vischering.de/kulturprogramm/hermann-nitsch-paint-as-material/
LOCATION:Berenbrock 1\, Lüdinghausen\, Nordrhein-Westfalen\, 59348\, Deutschland
CATEGORIES:Exhibition
ATTACH;FMTTYPE=image/jpeg:https://burg-vischering.de/wp-content/uploads/2021/05/Hermann-Nitsch-Schuettbild-mit-Malerhemd-2017-Acryl-auf-Leinwand-200-x-300-cm-©-VG-Bild-Kunst-Bonn-2021.jpg
END:VEVENT
BEGIN:VEVENT
DTSTART;VALUE=DATE:20210815
DTEND;VALUE=DATE:20211031
DTSTAMP:20260421T154431
CREATED:20210702T100756Z
LAST-MODIFIED:20210923T074339Z
UID:4503-1628985600-1635638399@burg-vischering.de
SUMMARY:Sieben Spielwunder. Klang- und Videoinstallationen von Dodo Schielein und Torsten Bruch
DESCRIPTION:SOUNDSEEING \nIn der Ausstellung „Sieben Spielwunder“ thematisiert das Hamburger Künstlerpaar Dodo Schielein und Torsten Bruch vielfältige Zugänge von Körper und Klang. Anhand von sieben meist klingenden Arbeiten bekommen die Besucherinnen und Besucher Einblicke in fiktive\, spielerische Welten\, in denen der Klang verkörpert wird oder der eigene Körper durch Handlungsanweisungen zum Klangerzeuger wird. \nTorsten Bruch zeigt unter anderem seine zwei 5-Kanal Videoinstallationen „Space Station“ und „Ping Pong“\, in denen der Künstler mehrfach in unterschiedlichen Rollen auftritt. Von Dodo Schielein sind unter anderem die interaktiven Arbeiten „paper music #3+#4“\, „Musik zu Fuß“ sowie „body sound“ zu sehen\, welche die Besucher und Besucherinnen auffordern\, Rhythmen und Klänge mit dem eigenen Körper zu kreieren. \nEintritt: regulärer Museumseintritt \nAusstellungseröffnung So\, 15. Aug | 15 Uhr\nZur Eröffnung im Innenhof der Hauptburg laden wir Sie herzlich ein. Im Rahmen der Vernissage wird Dodo Schielein ihre Arbeiten performativ zum Klingen bringen.\n \nZur Eröffnung melden Sie sich bitte telefonisch unter 02591-7990-0 oder unter kultur@kreis-coesfeld.de an. Zutritt nur mit aktuellem negativen Coronatest oder entsprechender Immunisierung. \n  \n  \nDodo Schielein und Torsten Bruch \n  \nDas münsterlandweite Klangkunstfestival SOUNDSEEING wird ermöglicht durch die Förderung des Ministeriums für Kultur und Wissenschaft\, der Kunststiftung NRW\, der LWL-Kulturstiftung und der Gelsenwasser-Stiftung. Kultur und Medienpartner sind Kultur West und WDR 3.\nMehr sehen und hören? https://www.soundseeing.net\nSocial media:\nhttps://www.instagram.com/klangkunstfestival_soundseeing/\nhttps://www.facebook.com/LandesmusikakademieNRW \n  \n \n \n \n 
URL:https://burg-vischering.de/kulturprogramm/soundseeing-klanginstallation-dodo-schielein-und-thomas-bruch/
LOCATION:Burg Vischering\, Berenbrock 1\, Lüdinghausen\, Nordrhein-Westfalen\, 59348\, Deutschland
CATEGORIES:Ausstellung
ATTACH;FMTTYPE=image/jpeg:https://burg-vischering.de/wp-content/uploads/2021/07/Dodo_Schielein_paper_music3-scaled.jpg
ORGANIZER;CN="Burg Vischering":MAILTO:kultur@kreis-coesfeld.de
END:VEVENT
BEGIN:VEVENT
DTSTART;TZID=Europe/Amsterdam:20210911T190000
DTEND;TZID=Europe/Amsterdam:20210911T210000
DTSTAMP:20260421T154431
CREATED:20210624T150413Z
LAST-MODIFIED:20220831T094352Z
UID:4455-1631386800-1631394000@burg-vischering.de
SUMMARY:King's Men: Macbeth
DESCRIPTION:Ein Klassiker – frisch\, originell und nah am Publikum: Vier Schauspieler aus Deutschland und den Niederlanden\, nehmen uns mit in die tragische Welt des schottischen Helden Macbeth – eine Welt voller Intrigen\, Liebe\, Macht\, Krieg und Größenwahn. Dabei spielen die vier Bühnenprofis und Improvisationstalente nicht nur wechselnde Rollen\, sie machen sich – ganz wie zu Shakespeares Zeiten – auch gleich noch die Frauenrollen zu eigen und parlieren sprachübergreifend in Deutsch\, Niederländisch\, ein wenig Englisch und auch Twents\, dem Dialekt der niederländischen Region Twente. Unverständlich? Nein\, grandios unterhaltsam und voller Humor! \nDie Vorführung findet Open Air auf der (bestuhlten) Wiese vor der Burg statt. \nTickets: 26\,87€ (erm. 22\,98€) \nZum Ticketkauf bitte HIER klicken.\n \nFoto: King’s Men ©Vera Koers \n  \n        \n  \nDie Veranstaltungsreihe „back to culture“ wird im Programm Kultursommer 2021 durch die Beauftrage der Bundesregierung für Kultur und Medien (BKM) mit Mitteln aus NEUSTART KULTUR gefördert.
URL:https://burg-vischering.de/kulturprogramm/kings-men-macbeth/
LOCATION:Burg Vischering\, Berenbrock 1\, Lüdinghausen\, Nordrhein-Westfalen\, 59348\, Deutschland
CATEGORIES:Allgemeine Veranstaltungen,Archiv-allgemeine-Veranstaltungen
ATTACH;FMTTYPE=image/jpeg:https://burg-vischering.de/wp-content/uploads/2021/06/Kings-Men-Burg-Vischering-Theater-Luedinghausen.jpg
ORGANIZER;CN="Burg Vischering":MAILTO:kultur@kreis-coesfeld.de
END:VEVENT
BEGIN:VEVENT
DTSTART;VALUE=DATE:20210912
DTEND;VALUE=DATE:20210913
DTSTAMP:20260421T154431
CREATED:20210825T064903Z
LAST-MODIFIED:20210825T064903Z
UID:4712-1631404800-1631491199@burg-vischering.de
SUMMARY:Tag des offenen Denkmals
DESCRIPTION:Am Tag des offenen Denkmals gewährt die Burg Vischering den Besuchern und Besucherinnen wieder spannende und kostenfreie Einblicke in die Räumlichkeiten des altehrwürdigen Adelssitzes und unserer aktuellen Sonderausstellungen. Hierzu werden neben dem freien Eintritt in die Ausstellungen ebenfalls zwei Führungen angeboten: \n11 Uhr: Architekturführung \n15 Uhr: Kunstführung durch die Ausstellung „Hermann Nitsch. Farbe als Material“ \nAnmeldungen für die Führungen unter kultur@kreis-coesfeld.de\, Teilnahme nur mit aktuellem negativen Corona-Test oder entsprechendem Immunisierungsnachweis. \n  \nZudem zelebriert der Kreis den Tag der offenen Tür mit drei (kostenpflichtigen) Kulturangeboten: \nOpen Air-Theater King’s Men mit Macbeth\, Burg Vischering \nMusik-Theater für Kinder\, Schloss Nordkirchen \nSchlosskonzert\, Schloss Nordkirchen \n  \nFoto: Kreis Coesfeld\, Andreas Lechtape
URL:https://burg-vischering.de/kulturprogramm/tag-des-offenen-denkmals-2/
LOCATION:u.a. Burg Vischering
CATEGORIES:Allgemeine Veranstaltungen
ATTACH;FMTTYPE=image/jpeg:https://burg-vischering.de/wp-content/uploads/2021/08/Burg-Vischering-©-Kreis-Coesfeld-Foto-Andreas-Lechtape-41-scaled.jpg
END:VEVENT
BEGIN:VEVENT
DTSTART;TZID=Europe/Amsterdam:20210912T143000
DTEND;TZID=Europe/Amsterdam:20210912T163000
DTSTAMP:20260421T154431
CREATED:20210624T150832Z
LAST-MODIFIED:20210908T143846Z
UID:4460-1631457000-1631464200@burg-vischering.de
SUMMARY:King's Men: Macbeth
DESCRIPTION:Ein Klassiker – frisch\, originell und nah am Publikum: Vier Schauspieler aus Deutschland und den Niederlanden\, nehmen uns mit in die tragische Welt des schottischen Helden Macbeth – eine Welt voller Intrigen\, Liebe\, Macht\, Krieg und Größenwahn. Dabei spielen die vier Bühnenprofis und Improvisationstalente nicht nur wechselnde Rollen\, sie machen sich – ganz wie zu Shakespeares Zeiten – auch gleich noch die Frauenrollen zu eigen und parlieren sprachübergreifend in Deutsch\, Niederländisch\, ein wenig Englisch und auch Twents\, dem Dialekt der niederländischen Region Twente. Unverständlich? Nein\, grandios unterhaltsam und voller Humor! \nDie Vorführung findet open air auf der (bestuhlten) Wiese vor der Burg statt. \nTickets: 26\,87€ (erm. 22\,98€) \nZum Ticketkauf bitte HIER klicken.\n \nFoto: King’s Men ©Vera Koers \n  \nDie Veranstaltungsreihe „back to culture“ wird im Programm Kultursommer 2021 durch die Beauftrage der Bundesregierung für Kultur und Medien (BKM) mit Mitteln aus NEUSTART KULTUR gefördert.
URL:https://burg-vischering.de/kulturprogramm/kings-men-macbeth-2/
LOCATION:Burg Vischering\, Berenbrock 1\, Lüdinghausen\, Nordrhein-Westfalen\, 59348\, Deutschland
CATEGORIES:Allgemeine Veranstaltungen
ATTACH;FMTTYPE=image/jpeg:https://burg-vischering.de/wp-content/uploads/2021/06/Kings-Men-c-Vera-Koers-2.jpg
ORGANIZER;CN="Burg Vischering":MAILTO:kultur@kreis-coesfeld.de
END:VEVENT
BEGIN:VEVENT
DTSTART;TZID=Europe/Amsterdam:20210915T190000
DTEND;TZID=Europe/Amsterdam:20210915T210000
DTSTAMP:20260421T154431
CREATED:20210615T143745Z
LAST-MODIFIED:20210728T140214Z
UID:4405-1631732400-1631739600@burg-vischering.de
SUMMARY:Fräulein Nette unterwegs – Der Epilog. Eine musikalische Spurensuche. Von und mit Bettina Bruns\, Daniel Göritz & Anna Carewe
DESCRIPTION:Kooperation mit der Burg Hülshoff\, Reihe: Fräulein Nette unterwegs \nBurg Vischering wird 750 Jahre alt und bekommt Besuch von Fräulein Nette unterwegs. Die Sängerin Bettina Bruns präsentiert ein Konzert zu Ehren von Annette von Droste-Hülshoff – wie man es noch nie gehört hat.\nBettina Bruns reist mit ihrer Musik zurück ins Jahr 1820\, in dem die eigensinnige junge Dichterin Annette von Droste-Hülshoff einer Liebesintrige zum Opfer fiel. In ihrem Konzert nähert sie sich diesem schmerz- und schamhaften Erlebnis mit einer Zeiten und Grenzen überschreitenden Anteilnahme an – und zwar ganz wörtlich: Zusammen mit der Schriftstellerin Karen Duve ist sie auf den Spuren des Romans „Fräulein Nettes kurzer Sommer“ von Burg Hülshoff zum Bökerhof geritten\, dem Schauplatz der für die junge Annette traumatischen Ereignisse. \nUnterstützt von dem Musiker Daniel Göritz verarbeitet Bettina Bruns nun ihre Erlebnisse entlang des Weges: Reiseromantik trifft auf reine Strapaze\, Schönheit auf Scheitern und Scham – und Musik auf Erzählung. Annette ist mal ganz nah; dann wieder entzieht sie sich. Unterstützt von den Musizierenden Anna Carewe und Daniel Göritz verarbeitet Bettina Bruns nun ihre Erlebnisse entlang des Weges: Reiseromantik trifft auf reine Strapaze\, Schönheit auf Scheitern und Scham – und Musik auf Erzählung. Annette ist mal ganz nah; dann wieder entzieht sie sich. Über musikalische Konventionen hinweg verbindet dieser Abend Lieder von Annette von Droste-Hülshoff mit freier Improvisation\, lässt Komponisten wie Bach\, Schubert und Vivaldi auf Punk und Noise treffen und stellt sich damit an die Seite aller Menschen\, die wie die junge Schriftstellerin an den Konventionen einer vermeintlichen Normalität zu scheitern drohen. \nTicket: 11\,34€ (erm. 9\,27€) \nZum Ticketkauf bitte HIER klicken.\n \nEinlass nur mit 3G-Nachweis: Geimpft\, Getestet oder Genesen. \n 
URL:https://burg-vischering.de/kulturprogramm/fraeulein-nette-unterwegs-der-epilog-eine-musikalische-spurensuche-von-und-mit-bettina-bruns-daniel-goeritz/
LOCATION:Burg Vischering\, Berenbrock 1\, Lüdinghausen\, Nordrhein-Westfalen\, 59348\, Deutschland
CATEGORIES:Konzert
ATTACH;FMTTYPE=image/jpeg:https://burg-vischering.de/wp-content/uploads/2021/06/Duo-Udite-©Kerstin-Ahlrichs-scaled.jpg
ORGANIZER;CN="Burg Vischering":MAILTO:kultur@kreis-coesfeld.de
END:VEVENT
BEGIN:VEVENT
DTSTART;TZID=Europe/Amsterdam:20210919T110000
DTEND;TZID=Europe/Amsterdam:20210919T170000
DTSTAMP:20260421T154431
CREATED:20210528T112249Z
LAST-MODIFIED:20210914T080036Z
UID:4243-1632049200-1632070800@burg-vischering.de
SUMMARY:Kunst im Park
DESCRIPTION:Kunst zum Schauen\, Anfassen und mit nach Hause nehmen \n„Kunst im Park“ heißt eine große Open-Air Veranstaltung\, die am 19. September nun schon zum vierten Mal den Park zwischen den beiden Burgen Lüdinghausen und Vischering beleben wird. Nachdem letztes Jahr aufgrund der COVID-19-Pandemie pausiert werden musste\, soll dieses Jahr endlich wieder Kunst präsentiert und genossen werden – selbstverständlich unter Wahrung eines Hygiene- und Sicherheitskonzeptes. Dieses Konzept wird für die Veranstaltung derzeit entwickelt. Nach dem bekannten Enscheder Vorbild „Kunst in het Volkspark“ bedeutet auch „Kunst im Park“ Kunst zum Schauen\, Anfassen und mit nach Hause nehmen und das alles in entspannter Freiluft-Atmosphäre. \nUnter federführender Leitung der Kulturabteilung des Kreises Coesfeld sind Galerien\, Profi- und Amateurkünstlerinnen und -künstler gleichermaßen aufgerufen\, ihre Kunst zu präsentieren. Dazu wird jeder Galerie und jeder/m Künstler/in ein überdachter Stand auf dem Veranstaltungsgelände zur Verfügung gestellt\, in welchem die Werke präsentiert und verkauft werden können. Auch dieses Jahr wird wieder der beste Künstler/die beste Künstlerin von einer Jury gekürt. Der Preis ist mit 500 Euro dotiert. Der Preisträger/die Preisträgerin darf zudem an der diesjährigen ART VISCHERING teilnehmen\, der beliebten Verkaufsausstellung ab 10. Oktober 2021 auf Burg Vischering mit zahlreichen renommierten und jungen Künstlerinnen und Künstlern im Nebeneinander. \nFoto: Kunst im Park Lüdinghausen\, Klaus Depenbrock \n3G-Nachweis und Maskenpflicht erforderlich. \n  \nZum Download: \nKunst im Park Lageplan 2021 \nKunst im Park Künstlerinnen 2021
URL:https://burg-vischering.de/kulturprogramm/kunst-im-park-2/
LOCATION:Burg Vischering\, Berenbrock 1\, Lüdinghausen\, Nordrhein-Westfalen\, 59348\, Deutschland
CATEGORIES:Allgemeine Veranstaltungen
ATTACH;FMTTYPE=image/jpeg:https://burg-vischering.de/wp-content/uploads/2021/05/Kunst-im-Park-Luedinghausen-©-Klaus-Depenbrock.jpg
ORGANIZER;CN="Burg Vischering":MAILTO:kultur@kreis-coesfeld.de
END:VEVENT
BEGIN:VEVENT
DTSTART;TZID=Europe/Amsterdam:20210919T160000
DTEND;TZID=Europe/Amsterdam:20210919T173000
DTSTAMP:20260421T154431
CREATED:20210702T114153Z
LAST-MODIFIED:20250704T112201Z
UID:4522-1632067200-1632072600@burg-vischering.de
SUMMARY:Soundseeing-Konzert: Jan Klare mit The Dorf
DESCRIPTION:Der Begriff Band greift bei The Dorf zu kurz – The Dorf ist eine soziale Skulptur\, die sich\, 2006 geschaffen\, in einem stetigen Wandel befindet. Rund 80 Personen haben das Orchester über die Jahre mitgeformt\, auch wenn sich die Zahl der Musiker pro Konzert auf immerhin stattliche ca. 25 Musikerinnen und Musiker beschränkt. \n„The Dorf funktioniert wie ein Vogelschwarm\, der gen Süden zieht – mit äußerst effizienter innerer Orientierung und einem klaren Ziel vor Augen – ein Baum\, auf dem alle gemeinsam zwitschern können\,“ so beschreiben The Dorf ihr Wirken selbst. Krautrock\, Utopian Beats\, Noise – die Eckpfeiler ihrer Musik sind Jazz\, Improvisation\, Punk und Neue Musik\, mehr stilistische Einordnung bleibt unmöglich. \n3G-Nachweis und Maskenpflicht erforderlich.
URL:https://burg-vischering.de/kulturprogramm/soundseeing-konzert-jan-klare-mit-the-dorf/
LOCATION:Burg Vischering\, Berenbrock 1\, Lüdinghausen\, Nordrhein-Westfalen\, 59348\, Deutschland
CATEGORIES:Archiv-BurgJazz,Archiv-Konzert,Archive-BurgJazz,Konzert
ATTACH;FMTTYPE=image/jpeg:https://burg-vischering.de/wp-content/uploads/2021/07/The-Dorf-c-Jan-Klare-scaled.jpg
ORGANIZER;CN="Burg Vischering":MAILTO:kultur@kreis-coesfeld.de
END:VEVENT
END:VCALENDAR