BEGIN:VCALENDAR
VERSION:2.0
PRODID:-//burg-vischering - ECPv6.15.20//NONSGML v1.0//EN
CALSCALE:GREGORIAN
METHOD:PUBLISH
X-WR-CALNAME:burg-vischering
X-ORIGINAL-URL:https://burg-vischering.de
X-WR-CALDESC:Veranstaltungen für burg-vischering
REFRESH-INTERVAL;VALUE=DURATION:PT1H
X-Robots-Tag:noindex
X-PUBLISHED-TTL:PT1H
BEGIN:VTIMEZONE
TZID:Europe/Amsterdam
BEGIN:DAYLIGHT
TZOFFSETFROM:+0100
TZOFFSETTO:+0200
TZNAME:CEST
DTSTART:20250330T010000
END:DAYLIGHT
BEGIN:STANDARD
TZOFFSETFROM:+0200
TZOFFSETTO:+0100
TZNAME:CET
DTSTART:20251026T010000
END:STANDARD
BEGIN:DAYLIGHT
TZOFFSETFROM:+0100
TZOFFSETTO:+0200
TZNAME:CEST
DTSTART:20260329T010000
END:DAYLIGHT
BEGIN:STANDARD
TZOFFSETFROM:+0200
TZOFFSETTO:+0100
TZNAME:CET
DTSTART:20261025T010000
END:STANDARD
BEGIN:DAYLIGHT
TZOFFSETFROM:+0100
TZOFFSETTO:+0200
TZNAME:CEST
DTSTART:20270328T010000
END:DAYLIGHT
BEGIN:STANDARD
TZOFFSETFROM:+0200
TZOFFSETTO:+0100
TZNAME:CET
DTSTART:20271031T010000
END:STANDARD
END:VTIMEZONE
BEGIN:VEVENT
DTSTART;TZID=Europe/Amsterdam:20260201T100000
DTEND;TZID=Europe/Amsterdam:20260531T180000
DTSTAMP:20260419T154507
CREATED:20251223T163022Z
LAST-MODIFIED:20260224T125345Z
UID:12246-1769940000-1780250400@burg-vischering.de
SUMMARY:AUGEN - BLICK - WINKEL | Engelbert Reinekes Momentaufnahmen der Politik
DESCRIPTION:Als Fotograf des Bundespresseamtes dokumentierte Engelbert Reineke von 1966 bis 2004 zentrale politische Ereignisse. Mit Fotografien wie dem Kniefall Willy Brandts oder den letzten Porträts Konrad Adenauers schuf er Bilder\, die sowohl das kollektive Bildgedächtnis als auch unsere Vorstellungen von Politikgeschichte bis heute prägen.\nSeine fotografischen Aufnahmen zeichnen sich durch ein feines Gespür für den entscheidenden Augenblick und eine raffiniert gestaltete Bildkomposition aus. Mit einer erstmals ausschließlich Reineke gewidmeten Ausstellung präsentiert die Burg Vischering unter anderem originale Abzüge aus dem eigenen Bestand des Fotografen.\nDie Ausstellung betrachtet die Werke sowohl aus politisch-historischer Perspektive als auch unter persönlichen und bildkulturellen Aspekten. Wie viel Dokumentation steckt in den Bildern – wie viel Inszenierung? Im Rahmen des Themenjahres „Fotografie und Wahrheit“ richtet die Ausstellung den Blick außerdem darauf\, wie Fotografie unsere Wahrnehmung von Wirklichkeit formt. \nEintritt: 3\,50 €\, erm. 2 € \nGefördert wird die Ausstellung durch die Sparkassenstiftung für den Kreis Coesfeld \nFührungen durch die Ausstellung mit unserem Kollegen Jon Wiggermann sind möglich. Melden Sie sich dazu bitte telefonisch unter 02591 79 90-0 oder per Mail unter kultur@kreis-coesfeld.de \n© Engelbert Reineke\, Die Fotojournalisten Hans Hubmann und Max Scheeler\, 1970 © Bundesregierung/Engelbert Reineke
URL:https://burg-vischering.de/kulturprogramm/augen-blick-winkel-engelbert-reinekes-momentaufnahmen-der-politik/
LOCATION:Burg Vischering\, Berenbrock 1\, Lüdinghausen\, Nordrhein-Westfalen\, 59348\, Deutschland
CATEGORIES:Archiv-allgemeine-Veranstaltungen,Ausstellung,Exhibition
ATTACH;FMTTYPE=image/jpeg:https://burg-vischering.de/wp-content/uploads/2025/12/Engelbert-Reineke-Die-Fotojournalisten-Hans-Hubmann-und-Max-Scheeler-1970-©-Bundesregierung_Engelbert-Reineke.jpg
ORGANIZER;CN="Burg Vischering":MAILTO:kultur@kreis-coesfeld.de
END:VEVENT
BEGIN:VEVENT
DTSTART;TZID=Europe/Amsterdam:20260228T190000
DTEND;TZID=Europe/Amsterdam:20260228T213000
DTSTAMP:20260419T154507
CREATED:20260116T123911Z
LAST-MODIFIED:20260116T124016Z
UID:12276-1772305200-1772314200@burg-vischering.de
SUMMARY:Macht\, Mord\, Münsterland: „Die Einkreisung“
DESCRIPTION:Ein Krimi im Wirbel um die Gebietsreform: In ihrem dreiteiligen Podcast „Die Einkreisung“ reisen Sarah Giese\, Christoph Tiemann und Johannes Kraas ins Jahr 1975. Mit der Live-Performance des Podcast sind sie im Februar auf der Burg Vischering in Lüdinghausen zu Gast – und beleuchten dort auch\, anders als in der reinen publizierten Hörfassung\, wie es um die Gebietsreform im restlichen Münsterland stand. \nDarum geht es in „Die Einkreisung“: Es ist Januar 1975. Eine junge Frau aus Borken verunglückt tödlich auf vereister Straße. Eigentlich ein Fall für die Polizei aus Bocholt\, hätte nicht die kommunale Gebietsreform die Zuständigkeit nach Borken verlegt. Nun ermitteln Beamte beider Städte – und entdecken allerlei Ungereimtheiten. \nLiegt Spannung in der Luft\, wenn es sich um die Gebietsreform im Münsterland dreht? Ja\, beweisen die Hörbuch- und Fernsehsprecherin Sarah Giese\, Moderator und Autor Christoph Tiemann und Komponist Johannes Kraas. Bei ersten Recherchen erkannten sie gleich das Potenzial für eine Geschichte\, die zur damaligen Zeit im Münsterland spielt\, und entwickelten eine Idee. „Angespornt hat uns\, die vermeintlich dröge Reform in ein populäres Hörformat zu pressen“\, verrät Giese. Das Ergebnis: ein fiktionalisierter True-Crime- Podcast\, der von einem erdachten Kriminalfall inmitten wahrer Begebenheiten handelt. \nTickets: vor Ort oder HIER online\nEintritt: 18€ (em. 16€) \nFoto: Münsterland e.V.
URL:https://burg-vischering.de/kulturprogramm/macht-mord-muensterland-die-einkreisung/
LOCATION:Burg Vischering\, Berenbrock 1\, Lüdinghausen\, Nordrhein-Westfalen\, 59348\, Deutschland
CATEGORIES:Allgemeine Veranstaltungen,Archiv-allgemeine-Veranstaltungen,General Events
ATTACH;FMTTYPE=image/jpeg:https://burg-vischering.de/wp-content/uploads/2026/01/Die-Einkreisung-Podcast-©Muensterland-e.V.jpg
ORGANIZER;CN="Burg Vischering":MAILTO:kultur@kreis-coesfeld.de
END:VEVENT
END:VCALENDAR