BEGIN:VCALENDAR
VERSION:2.0
PRODID:-//burg-vischering - ECPv6.15.20//NONSGML v1.0//EN
CALSCALE:GREGORIAN
METHOD:PUBLISH
X-WR-CALNAME:burg-vischering
X-ORIGINAL-URL:https://burg-vischering.de
X-WR-CALDESC:Veranstaltungen für burg-vischering
REFRESH-INTERVAL;VALUE=DURATION:PT1H
X-Robots-Tag:noindex
X-PUBLISHED-TTL:PT1H
BEGIN:VTIMEZONE
TZID:Europe/Amsterdam
BEGIN:DAYLIGHT
TZOFFSETFROM:+0100
TZOFFSETTO:+0200
TZNAME:CEST
DTSTART:20230326T010000
END:DAYLIGHT
BEGIN:STANDARD
TZOFFSETFROM:+0200
TZOFFSETTO:+0100
TZNAME:CET
DTSTART:20231029T010000
END:STANDARD
BEGIN:DAYLIGHT
TZOFFSETFROM:+0100
TZOFFSETTO:+0200
TZNAME:CEST
DTSTART:20240331T010000
END:DAYLIGHT
BEGIN:STANDARD
TZOFFSETFROM:+0200
TZOFFSETTO:+0100
TZNAME:CET
DTSTART:20241027T010000
END:STANDARD
BEGIN:DAYLIGHT
TZOFFSETFROM:+0100
TZOFFSETTO:+0200
TZNAME:CEST
DTSTART:20250330T010000
END:DAYLIGHT
BEGIN:STANDARD
TZOFFSETFROM:+0200
TZOFFSETTO:+0100
TZNAME:CET
DTSTART:20251026T010000
END:STANDARD
BEGIN:DAYLIGHT
TZOFFSETFROM:+0100
TZOFFSETTO:+0200
TZNAME:CEST
DTSTART:20260329T010000
END:DAYLIGHT
BEGIN:STANDARD
TZOFFSETFROM:+0200
TZOFFSETTO:+0100
TZNAME:CET
DTSTART:20261025T010000
END:STANDARD
END:VTIMEZONE
BEGIN:VEVENT
DTSTART;VALUE=DATE:20241027
DTEND;VALUE=DATE:20250120
DTSTAMP:20260425T004848
CREATED:20240913T123535Z
LAST-MODIFIED:20250704T115239Z
UID:10802-1729987200-1737331199@burg-vischering.de
SUMMARY:ART Vischering
DESCRIPTION:Hier klicken für die Werkliste ART Vischering 2024\nEinmal mehr präsentiert die Burg Vischering im Winter 2024 Werke ganz unterschiedlicher Künstlerinnen und Künstler. Etablierte Berühmtheiten der zeitgenössischen Kunst\, aber auch aufstrebende Kunstschaffende und Größen aus der Region steuern Arbeiten zu dieser Ausstellung bei. Grafiken\, Malereien und Keramik treffen bei der ART Vischering im Ambiente der historischen Wasserburg aufeinander. \nWie jedes Jahr gibt es bei dieser Ausstellung auch wieder die Möglichkeit\, alles was gefällt\, direkt zu kaufen und mit nach Hause zu nehmen. \nZur Ausstellungseröffnung am Sonntag\, 27.10.2024\, um 17 Uhr laden wir Sie herzlich ein. Der Eintritt zur Vernissage ist an diesem Tag kostenlos. \nMit Werken von: \nAndreas Alba | Cees Andriessen | Julia Arztmann | Heike Kati Barath | Joseph Beuys | Ruth Bussmann | Nolwenn Chouinard | Gabi Dahl | Maria Eggenkemper | Max Giermann | Mari Girkelidse | Dorthe Goeden | Andreas Gorke | Moritz Götze | Ira Gvozdyk | HAP Grieshaber | Beate Höing | Thaddäus Hüppi | Ioan Iosif | Jörg Immendorff | Gunilla Jähnichen | Doris Kastner | Min Klara Kim | Sala Lieber | Markus Lüpertz | Nico Mares | Heiner Meyer | Anastasiya Nesterova | Sigrid Nienstedt | AR Penck | Milan Peschel | Stefan Pietryga | Klaus Prior | MAF Räderscheidt | Marion Reicher | Lars Reiffers | Werner Reuber | Almuth Rusteberg | Christina Sauer | Hans Scheib | Paul Schwer | Vera Smolinski | Marius Stutte | Norbert Tadeusz | Norbert Thomas | Antonia Thürich | Junior Toscanelli | Klaus Trawny | Gan-Erdene Tsend | Elly van der Graaf | Marvin Wunderlich und vielen mehr. \nEintritt: 3\,50 € | erm. 2 €
URL:https://burg-vischering.de/kulturprogramm/art-vischering-6/
LOCATION:Burg Vischering\, Berenbrock 1\, Lüdinghausen\, Nordrhein-Westfalen\, 59348\, Deutschland
CATEGORIES:Archiv-allgemeine-Veranstaltungen,Ausstellung,Exhibition
ATTACH;FMTTYPE=image/jpeg:https://burg-vischering.de/wp-content/uploads/2024/09/Aasee-I.jpg
ORGANIZER;CN="Burg Vischering":MAILTO:kultur@kreis-coesfeld.de
END:VEVENT
BEGIN:VEVENT
DTSTART;TZID=Europe/Amsterdam:20241201T190000
DTEND;TZID=Europe/Amsterdam:20241201T213000
DTSTAMP:20260425T004848
CREATED:20240918T081402Z
LAST-MODIFIED:20250704T115429Z
UID:10822-1733079600-1733088600@burg-vischering.de
SUMMARY:Edvard-Grieg-Festival
DESCRIPTION:Virtuoser Klavierabend mit Studierenden der Musikhochschule Münster \nEs ist eine gute Tradition\, dass Studierende der Musikhochschule Münster einmal im Jahr im Rahmen des Edvardt-Grieg-Festivals auf der Burg Vischering gastieren. Unter dem Titel „Edvard Grieg und seine romantischen Kollegen“ wird es an diesem Abend ein reines Klavierrecital mit Werken von Edvardt Grieg\, Johannes Brahms\, Carl Reinecke und Weiteren geben. \nEs spielen Studierende der Klavierklasse unter Leitung von Prof. Peter von Wienhardt\, der bereits den ECHO Klassikpreis erhielt und als Intendant der Aaseeserenaden in Münster auftritt. Als Moderator des Abends nimmt er die Besuchenden mit auf eine Zeitreise in die Musik der Romantik. \nEintritt: frei \n© Peter von Wienhardt
URL:https://burg-vischering.de/kulturprogramm/edvard-grieg-festival/
LOCATION:Burg Vischering\, Berenbrock 1\, Lüdinghausen\, Nordrhein-Westfalen\, 59348\, Deutschland
CATEGORIES:Archiv-Konzert,Concert,Konzert
ATTACH;FMTTYPE=image/jpeg:https://burg-vischering.de/wp-content/uploads/2024/09/Edvard-Greig-Festival-Burg-Vischering-2024-scaled.jpg
ORGANIZER;CN="Burg Vischering":MAILTO:kultur@kreis-coesfeld.de
END:VEVENT
END:VCALENDAR