BEGIN:VCALENDAR
VERSION:2.0
PRODID:-//burg-vischering - ECPv6.15.20//NONSGML v1.0//EN
CALSCALE:GREGORIAN
METHOD:PUBLISH
X-ORIGINAL-URL:https://burg-vischering.de
X-WR-CALDESC:Veranstaltungen für burg-vischering
REFRESH-INTERVAL;VALUE=DURATION:PT1H
X-Robots-Tag:noindex
X-PUBLISHED-TTL:PT1H
BEGIN:VTIMEZONE
TZID:Europe/Amsterdam
BEGIN:DAYLIGHT
TZOFFSETFROM:+0100
TZOFFSETTO:+0200
TZNAME:CEST
DTSTART:20230326T010000
END:DAYLIGHT
BEGIN:STANDARD
TZOFFSETFROM:+0200
TZOFFSETTO:+0100
TZNAME:CET
DTSTART:20231029T010000
END:STANDARD
BEGIN:DAYLIGHT
TZOFFSETFROM:+0100
TZOFFSETTO:+0200
TZNAME:CEST
DTSTART:20240331T010000
END:DAYLIGHT
BEGIN:STANDARD
TZOFFSETFROM:+0200
TZOFFSETTO:+0100
TZNAME:CET
DTSTART:20241027T010000
END:STANDARD
BEGIN:DAYLIGHT
TZOFFSETFROM:+0100
TZOFFSETTO:+0200
TZNAME:CEST
DTSTART:20250330T010000
END:DAYLIGHT
BEGIN:STANDARD
TZOFFSETFROM:+0200
TZOFFSETTO:+0100
TZNAME:CET
DTSTART:20251026T010000
END:STANDARD
END:VTIMEZONE
BEGIN:VEVENT
DTSTART;VALUE=DATE:20240204
DTEND;VALUE=DATE:20240527
DTSTAMP:20260422T001620
CREATED:20231207T160022Z
LAST-MODIFIED:20250704T114820Z
UID:9826-1707004800-1716767999@burg-vischering.de
SUMMARY:MIND & MOTION
DESCRIPTION:Das deutsche Künstlerduo Isa Dahl & Daniel Wagenblast könnte auf den ersten Blick nicht verschiedener arbeiten. Isa Dahls (1965) Arbeiten bestechen durch farbgewaltige und wogende Bildräume\, in denen sie mit gestischem Schwung der Sinnlichkeit des Malerischen selbst Ausdruck verleiht und uns zugleich Gedankenräume eröffnet. Daniel Wagenblasts (1963) Skulpturen sind der Gegenständlichkeit verbunden und im öffentlichen Raum zu finden. Sie stellen das Verhältnis von Mensch und Gegenstand auf den Kopf. Kritisch und mit konfrontativem Witz hinterfragt er unsere Abhängigkeit vom Materiellen auf der Welt und lässt uns nach neuen Perspektiven und Möglichkeiten zur Veränderung Ausschau halten. \nDie Ausstellung stellt auf faszinierende Art und Weise verschiedene Ansätze und Techniken miteinander in einen künstlerischen Dialog. \nAus der Reihe:  \nEintritt: 3\,50 € | erm. 2 € \nBegleitprogramm\nAm 28. April findet um 15 Uhr eine öffentliche Führung mit der Kunsthistorikerin und Galeristin Dr. Gabriele Hovestadt statt. Kosten: 4 € zzgl. Museumseintritt. Um Anmeldung unter 02591-7990-0 oder kultur@kreis-coesfeld.de wird gebeten. \nAm 19. Mai (internationaler Museumstag) findet um 16 Uhr ein Künstlergespräch mit Isa Dahl und Daniel Wagenblast in der Burg Vischering statt. Um vorherige Anmeldung wird ebenfalls gebeten. Es gilt der ermäßigte Eintritt. \nFoto: © Isa Dahl & Daniel Wagenblast\, zwischenraumschau\, Fahneninstallation\, VG Bild-Kunst\, Bonn 2024
URL:https://burg-vischering.de/kulturprogramm/mind-and-motion/
LOCATION:Burg Vischering\, Berenbrock 1\, Lüdinghausen\, Nordrhein-Westfalen\, 59348\, Deutschland
CATEGORIES:Archiv-allgemeine-Veranstaltungen,Ausstellung
ATTACH;FMTTYPE=image/jpeg:https://burg-vischering.de/wp-content/uploads/2023/12/MIND-and-Motion-©-Daniel-Wagenblast-scaled.jpg
ORGANIZER;CN="Burg Vischering":MAILTO:kultur@kreis-coesfeld.de
END:VEVENT
BEGIN:VEVENT
DTSTART;TZID=Europe/Amsterdam:20240224T190000
DTEND;TZID=Europe/Amsterdam:20240224T210000
DTSTAMP:20260422T001620
CREATED:20231208T135109Z
LAST-MODIFIED:20250704T114831Z
UID:9830-1708801200-1708808400@burg-vischering.de
SUMMARY:Joachim B. Schmidt liest „Kalmann und der schlafende Berg“
DESCRIPTION:Mit „Kalmann“ gelang dem gebürtigen Schweizer Autor Joachim B. Schmidt im Jahr 2020 ein Überraschungs-Erfolg! Spätestens aber seit dem Nachfolge-Roman „Tell“ (2022)\, ein historischer Roman\, der sich am Leben des legendären Schweizer Freiheitskämpfers Wilhelm Tell orientiert\, wird Joachim B. Schmidt als der neue Star am Literatur-Himmel gehandelt. \nIn der Schweiz vielfach ausgezeichnet erhielten auch hier in Deutschland beide Romane durchweg positive Rezensionen und der junge Autor\, der die meiste Zeit des Jahres auf Island lebt\, erfreut sich auch hierzulande einer immer größer werden Fan-Gemeinde. \nDeutschlandfunk Kultur schrieb schon 2020 über „Kalmann“: „eine Hauptfigur\, die an „Forrest Gump“ und John Irvings „Garp“ erinnert“ und nicht nur ein großartiger Kriminalroman\, sondern auch ein Roman\, der „ein erhebliches intellektuelles Vergnügen“ bietet. Der erfreuten lesenden Anhängerschaft bescherte Joachim B. Schmidt im Herbst 2023 mit „Kalmann und der schlafende Berg“ eine Fortsetzung um diesen einzigartigen\, isländischen Hauptprotangonisten. Der Roman steht auch im Mittelpunkt der Lesung auf der Burg Vischering. \nDie Referentin der Literaturkreise „Lese.ZEICHEN“ Lüdinghausen/Dülmen\, Heike König-Bölke führt durch die Lesung und zeigt Wissenswertes rund um Autor und Werk auf. \nZum Autor: \nJoachim B. Schmidt\, geboren 1981\, aufgewachsen im Schweizer Kanton Graubünden\, ist 2007 nach Island ausgewandert. Seine Romane ›Tell‹ und ›Kalmann‹ waren Bestseller; mit ›Kalmann‹ erreichte er den 3. Platz beim Schweizer Krimipreis und erhielt den Crime Cologne Award. ›Tell‹ war auf Platz 1 der Schweizer Bestsellerliste und erhielt den Bündner Literaturpreis. Der Doppelbürger lebt mit seiner Frau und zwei gemeinsamen Kindern in Reykjavík \nZur Fortsetzung „Kalmann und der schlafende Berg“ \nKalmann sitzt in der Tinte. Besser gesagt\, er sitzt im FBI-Hauptquartier in Washington. Dabei wollte er eigentlich nur seinen amerikanischen Vater besuchen. Doch der lässt ihn hängen\, und ehe Kalmann sichs versieht\, sitzt er wieder im Flugzeug zurück nach Island. Im hohen Norden hat er aber auch keine Ruhe. Ein Mord ist geschehen\, und die Spuren reichen zurück bis nach Amerika und in den Kalten Krieg. Und wer muss diesen explosiven Fall aufklären? Korrektomundo: Kalmann\, der berühmte Sheriff von Raufarhöfn. \nTicketpreise: 15 € / erm. 12\,50 € \nZum Ticketkauf bitte HIER klicken \nFoto: Eva Schram Diogenes
URL:https://burg-vischering.de/kulturprogramm/joachim-b-schmidt-liest-kalman/
LOCATION:Burg Vischering\, Berenbrock 1\, Lüdinghausen\, Nordrhein-Westfalen\, 59348\, Deutschland
CATEGORIES:Allgemeine Veranstaltungen,Archiv-allgemeine-Veranstaltungen
ATTACH;FMTTYPE=image/jpeg:https://burg-vischering.de/wp-content/uploads/2023/12/Joachim-B.-Schmidt-©Eva-Schram-Diogenes-scaled.jpg
ORGANIZER;CN="Burg Vischering":MAILTO:kultur@kreis-coesfeld.de
END:VEVENT
END:VCALENDAR