BEGIN:VCALENDAR
VERSION:2.0
PRODID:-//burg-vischering - ECPv6.15.20//NONSGML v1.0//EN
CALSCALE:GREGORIAN
METHOD:PUBLISH
X-WR-CALNAME:burg-vischering
X-ORIGINAL-URL:https://burg-vischering.de
X-WR-CALDESC:Veranstaltungen für burg-vischering
REFRESH-INTERVAL;VALUE=DURATION:PT1H
X-Robots-Tag:noindex
X-PUBLISHED-TTL:PT1H
BEGIN:VTIMEZONE
TZID:Europe/Amsterdam
BEGIN:DAYLIGHT
TZOFFSETFROM:+0100
TZOFFSETTO:+0200
TZNAME:CEST
DTSTART:20220327T010000
END:DAYLIGHT
BEGIN:STANDARD
TZOFFSETFROM:+0200
TZOFFSETTO:+0100
TZNAME:CET
DTSTART:20221030T010000
END:STANDARD
BEGIN:DAYLIGHT
TZOFFSETFROM:+0100
TZOFFSETTO:+0200
TZNAME:CEST
DTSTART:20230326T010000
END:DAYLIGHT
BEGIN:STANDARD
TZOFFSETFROM:+0200
TZOFFSETTO:+0100
TZNAME:CET
DTSTART:20231029T010000
END:STANDARD
BEGIN:DAYLIGHT
TZOFFSETFROM:+0100
TZOFFSETTO:+0200
TZNAME:CEST
DTSTART:20240331T010000
END:DAYLIGHT
BEGIN:STANDARD
TZOFFSETFROM:+0200
TZOFFSETTO:+0100
TZNAME:CET
DTSTART:20241027T010000
END:STANDARD
END:VTIMEZONE
BEGIN:VEVENT
DTSTART;TZID=Europe/Amsterdam:20230618T080000
DTEND;TZID=Europe/Amsterdam:20231015T170000
DTSTAMP:20260422T093905
CREATED:20230328T115008Z
LAST-MODIFIED:20230825T074452Z
UID:9077-1687075200-1697389200@burg-vischering.de
SUMMARY:Spuren unserer Landschaft
DESCRIPTION:Das Thema Natur hat eine lange Geschichte in der Kunst. Als Hintergrundkulisse\, als Landschaftsmalerei\, Detailaufnahme oder Arbeitsmaterial. Die Sonderausstellung zeigt zwei Positionen\, die sich auf unterschiedliche Weise mit dem Thema Natur und Landschaft auseinandersetzen und in einen Dialog miteinander treten. Zum einen wird die spätimpressionistische Landschaftsmalerei des Münsteraner Künstlers Carl Müller-Tenckhoff (1873 – 1936) gezeigt\, der verschiedene Perspektiven auf westfälische Landschaften eröffnet. Dem gegenüber stehen zeitgenössische Positionen von Veronika Teigeler. Inspiriert von Beobachtungen\, Entdeckungen und Funden in der Natur\, gestaltet sie ihre Arbeiten in Form von Malerei\, Objekten\, Installationen und Fotografie. Dabei laden einzigartige Interpretationen und Inszenierungen von Natur dazu ein\, über die eigene Umwelt zu reflektieren. \n  \nZur feierlichen Ausstellungseröffnung am 18. Juni um 17 Uhr lädt der Kreis Coesfeld herzlich ein. Die Teilnahme an der Vernissage ist kostenlos. \nKosten: 3\,5 € / erm. 2 €
URL:https://burg-vischering.de/kulturprogramm/spuren-unserer-landschaft/
LOCATION:Burg Vischering\, Berenbrock 1\, Lüdinghausen\, Nordrhein-Westfalen\, 59348\, Deutschland
CATEGORIES:Archiv-allgemeine-Veranstaltungen,Ausstellung
ATTACH;FMTTYPE=image/jpeg:https://burg-vischering.de/wp-content/uploads/2023/03/Spuren_unserer_Landschaft_Carl-Mueller-Tenckhoff_Veronika_Teigeler_Kunst_Ausstellung_Burg_Vischering_Luedinghausen.jpg
ORGANIZER;CN="Burg Vischering":MAILTO:kultur@kreis-coesfeld.de
END:VEVENT
BEGIN:VEVENT
DTSTART;TZID=Europe/Amsterdam:20230917T110000
DTEND;TZID=Europe/Amsterdam:20230917T170000
DTSTAMP:20260422T093905
CREATED:20230531T144931Z
LAST-MODIFIED:20250704T114420Z
UID:9222-1694948400-1694970000@burg-vischering.de
SUMMARY:Kunst im Park
DESCRIPTION:Kunst zum Schauen\, Anfassen und mit nach Hause nehmen\n„Kunst im Park“ heißt eine große Open-Air Veranstaltung\, die am 17. September zum sechsten Mal den Park zwischen den beiden Burgen Lüdinghausen und Vischering beleben wird. Nach dem bekannten Enscheder Vorbild „Kunst in het Volkspark“ bedeutet auch „Kunst im Park“ Kunst zum Schauen\, Anfassen und mit nach Hause nehmen und das alles in entspannter Freiluft-Atmosphäre. \nUnter federführender Leitung der Kulturabteilung des Kreises Coesfeld sind Galerien\, Profi- und Amateurkünstlerinnen und -künstler gleichermaßen aufgerufen\, ihre Kunst zu präsentieren. Dazu wird jeder Galerie und jeder/m Künstler/in ein überdachter Stand auf dem Veranstaltungsgelände zur Verfügung gestellt\, in welchem die Werke präsentiert und verkauft werden können. Auch dieses Jahr wird wieder der beste Künstler/die beste Künstlerin von einer Jury gekürt. Der Preis ist mit 500 Euro dotiert. Der Preisträger/die Preisträgerin darf zudem an der diesjährigen ART VISCHERING teilnehmen\, der beliebten Verkaufsausstellung\, die ab dem 29. Oktober 2023 auf Burg Vischering mit zahlreichen renommierten und jungen Künstlerinnen und Künstlern im Nebeneinander zu sehen sein wird. \n  \nFür teilnehmende Künstlerinnen und Künstler haben wir folgende FAQ (Frequently Asked Questions) zusammengestellt: \nWerden Stände zur Verfügung gestellt?\nJa! Der Stand besteht aus einem überdachten Zelt mit der Traufhöhe von 1\,80 m und einer Firsthöhe von 2\,30 m. Eine Tischfläche von 1 m x 4 m steht Ihnen zur Präsentation Ihrer Kunst zur Verfügung. Für weitere Tische\, Staffeleien und andere persönliche Einrichtungswünsche\, wie Stühle/ Hocker etc.\, bitten wir Sie selbst zu sorgen. Da es keine Schlecht-Wetter Alternative gibt\, schlagen wir vor\, dass Sie Planen etc. mitbringen\, mit der Sie bei Regen Ihre Kunst schützen. Gerne können Sie auch den Bereich um Ihre Stände zur Präsentation nutzen. Hier ist genügend Freifläche vorgesehen. Die Konstruktion des Standes gestattet leider nicht das Aufhängen oder anderweitige Befestigen von Ausstellungsgut am Gerüst oder der Plane. \nKann ich meinen eigenen Stand mitbringen?\nUm ein einheitliches Bild zu gewährleisten\, ist es nicht vorgesehen\, einen eigenen Stand oder Pavillon mitzubringen. \nWann geht es los?\nJe nach Standort ist die Aufbauphase zwischen 8.30 Uhr und 9.30 Uhr. Über die jeweilige Anreise- und Aufbauphase wird jeder Teilnehmende per E-Mail informiert. \nWelche Künstlerinnen und Künstler nehmen an Kunst im Park 2023 teil?\nÜbersicht Teilnehmende Kunst im Park 2023 \nWo wird mein Standplatz sein?\nLageplan Kunst im Park 2023 \nIst jeder zugewiesene Standplatz mit dem PKW erreichbar?\nDie StadtLandschaft als Veranstaltungsfläche zwischen den Burgen ist nicht mit dem PKW befahrbar. Ausnahmen bilden hier einzelne Ausstellende\, die der Kreis Coesfeld im Vorfeld über diese Option informiert. Der Kunsttransport vom Parkplatz zum zugewiesenen Standplatz wird von Mitarbeitenden des Kreises Coesfeld unterstützt. \nWo kann ich meinen PKW parken?\nJe nach Standplatz wird ein Parkplatz in der Nähe zugeteilt\, auf dem der PKW während der Veranstaltung stehen kann. \nWie läuft die Preisvergabe ab?\nWährend der Veranstaltung läuft eine dreiköpfige Fach-Jury über das Gelände und begutachtet jeden einzelnen Stand. Im Laufe der Veranstaltung wird dann der Gewinner oder die Gewinnerin gekürt und der Preis übergeben. \nGibt es Verpflegung?\nBei Kunst im Park wird es warmes Catering geben\, außerdem ein Coffeebike und weitere Getränkestände. Jede/r Ausstellende bekommt je einen Gutschein für eine Mahlzeit\, einen Kaffee und ein Getränk. \nWas passiert bei schlechtem Wetter?\nDer Kreis Coesfeld als Veranstalter behält sich vor\, Kunst im Park auch kurzfristig abzusagen. Informationen dazu werden über die Website und direkt per Mail gesteuert. \nWie kann ich selbst für die Veranstaltung werben?\nUm auch als Ausstellende Werbung für Kunst im Park machen zu können\, hat der Kreis Coesfeld eine digitale Mappe zusammengestellt\, aus der Veranstaltungsposter\, Storyvorlagen u.ä. kostenfrei heruntergeladen werden können. Dafür bitte HIER klicken. \n  \nFoto: Kreis Coesfeld\, Lukas Bertels
URL:https://burg-vischering.de/kulturprogramm/kunst-im-park-4/
LOCATION:Burg Vischering\, Berenbrock 1\, Lüdinghausen\, Nordrhein-Westfalen\, 59348\, Deutschland
CATEGORIES:Allgemeine Veranstaltungen,Archiv-allgemeine-Veranstaltungen
ATTACH;FMTTYPE=image/jpeg:https://burg-vischering.de/wp-content/uploads/2023/05/Kunst_im_Park_Burg_Vischering_Luedinghausen_Kunstmarkt_Stadtlandschaft_Markt.jpg
ORGANIZER;CN="Burg Vischering":MAILTO:kultur@kreis-coesfeld.de
END:VEVENT
BEGIN:VEVENT
DTSTART;TZID=Europe/Amsterdam:20230917T190000
DTEND;TZID=Europe/Amsterdam:20230917T210000
DTSTAMP:20260422T093906
CREATED:20230718T171013Z
LAST-MODIFIED:20250704T114438Z
UID:9324-1694977200-1694984400@burg-vischering.de
SUMMARY:Isfar Sarabski Quartet
DESCRIPTION:Genügend Lorbeeren hat sich der 31 Jahre junge Pianist\, Komponist und Arrangeur in der letzten Dekade live erarbeitet\, um Theatersäle von beträchtlichen Größen zwischen seiner aserbaidschanischen Heimatstadt Baku\, Berlin\, New York und Los Angeles füllen zu können. Isfar Sarabski begeistert sein Publikum mit sensibler und atemberaubender Musik\, Klassik und Jazz\, Standards und Eigenkompositionen\, und ist immer in Bewegung. Sein Spiel ist fließend\, kunstvoll und aufregend. Er lebt seine Musik\, und das spürt auch das Publikum. \nEintritt: 20€ / erm. 17€ (online zzgl. VVK-Gebühr) \nZum Ticketkauf bitte HIER klicken. \nFoto: o-tune music
URL:https://burg-vischering.de/kulturprogramm/isfar-sarabski-quartet/
LOCATION:Burg Vischering\, Berenbrock 1\, Lüdinghausen\, Nordrhein-Westfalen\, 59348\, Deutschland
CATEGORIES:Archiv-BurgJazz,Archiv-Konzert,Archive-BurgJazz,Konzert
ATTACH;FMTTYPE=image/jpeg:https://burg-vischering.de/wp-content/uploads/2023/07/Isfar-Sarabski-Quartet-©o-tone-music-1-scaled.jpg
ORGANIZER;CN="Burg Vischering":MAILTO:kultur@kreis-coesfeld.de
END:VEVENT
END:VCALENDAR