BEGIN:VCALENDAR
VERSION:2.0
PRODID:-//burg-vischering - ECPv6.15.20//NONSGML v1.0//EN
CALSCALE:GREGORIAN
METHOD:PUBLISH
X-WR-CALNAME:burg-vischering
X-ORIGINAL-URL:https://burg-vischering.de
X-WR-CALDESC:Veranstaltungen für burg-vischering
REFRESH-INTERVAL;VALUE=DURATION:PT1H
X-Robots-Tag:noindex
X-PUBLISHED-TTL:PT1H
BEGIN:VTIMEZONE
TZID:Europe/Amsterdam
BEGIN:DAYLIGHT
TZOFFSETFROM:+0100
TZOFFSETTO:+0200
TZNAME:CEST
DTSTART:20220327T010000
END:DAYLIGHT
BEGIN:STANDARD
TZOFFSETFROM:+0200
TZOFFSETTO:+0100
TZNAME:CET
DTSTART:20221030T010000
END:STANDARD
BEGIN:DAYLIGHT
TZOFFSETFROM:+0100
TZOFFSETTO:+0200
TZNAME:CEST
DTSTART:20230326T010000
END:DAYLIGHT
BEGIN:STANDARD
TZOFFSETFROM:+0200
TZOFFSETTO:+0100
TZNAME:CET
DTSTART:20231029T010000
END:STANDARD
BEGIN:DAYLIGHT
TZOFFSETFROM:+0100
TZOFFSETTO:+0200
TZNAME:CEST
DTSTART:20240331T010000
END:DAYLIGHT
BEGIN:STANDARD
TZOFFSETFROM:+0200
TZOFFSETTO:+0100
TZNAME:CET
DTSTART:20241027T010000
END:STANDARD
END:VTIMEZONE
BEGIN:VEVENT
DTSTART;TZID=Europe/Amsterdam:20230618T080000
DTEND;TZID=Europe/Amsterdam:20231015T170000
DTSTAMP:20260422T094536
CREATED:20230328T115008Z
LAST-MODIFIED:20230825T074452Z
UID:9077-1687075200-1697389200@burg-vischering.de
SUMMARY:Spuren unserer Landschaft
DESCRIPTION:Das Thema Natur hat eine lange Geschichte in der Kunst. Als Hintergrundkulisse\, als Landschaftsmalerei\, Detailaufnahme oder Arbeitsmaterial. Die Sonderausstellung zeigt zwei Positionen\, die sich auf unterschiedliche Weise mit dem Thema Natur und Landschaft auseinandersetzen und in einen Dialog miteinander treten. Zum einen wird die spätimpressionistische Landschaftsmalerei des Münsteraner Künstlers Carl Müller-Tenckhoff (1873 – 1936) gezeigt\, der verschiedene Perspektiven auf westfälische Landschaften eröffnet. Dem gegenüber stehen zeitgenössische Positionen von Veronika Teigeler. Inspiriert von Beobachtungen\, Entdeckungen und Funden in der Natur\, gestaltet sie ihre Arbeiten in Form von Malerei\, Objekten\, Installationen und Fotografie. Dabei laden einzigartige Interpretationen und Inszenierungen von Natur dazu ein\, über die eigene Umwelt zu reflektieren. \n  \nZur feierlichen Ausstellungseröffnung am 18. Juni um 17 Uhr lädt der Kreis Coesfeld herzlich ein. Die Teilnahme an der Vernissage ist kostenlos. \nKosten: 3\,5 € / erm. 2 €
URL:https://burg-vischering.de/kulturprogramm/spuren-unserer-landschaft/
LOCATION:Burg Vischering\, Berenbrock 1\, Lüdinghausen\, Nordrhein-Westfalen\, 59348\, Deutschland
CATEGORIES:Archiv-allgemeine-Veranstaltungen,Ausstellung
ATTACH;FMTTYPE=image/jpeg:https://burg-vischering.de/wp-content/uploads/2023/03/Spuren_unserer_Landschaft_Carl-Mueller-Tenckhoff_Veronika_Teigeler_Kunst_Ausstellung_Burg_Vischering_Luedinghausen.jpg
ORGANIZER;CN="Burg Vischering":MAILTO:kultur@kreis-coesfeld.de
END:VEVENT
BEGIN:VEVENT
DTSTART;TZID=Europe/Amsterdam:20230806T120000
DTEND;TZID=Europe/Amsterdam:20230806T180000
DTSTAMP:20260422T094536
CREATED:20230309T124206Z
LAST-MODIFIED:20230825T070454Z
UID:9026-1691323200-1691344800@burg-vischering.de
SUMMARY:Rabatz & Rabauken Festival: Heavysaurus + Kinders
DESCRIPTION:Die Burg Vischering\, der Kreis Coesfeld und Frechdachs Entertainment präsentieren am kommenden Sonntag\, 06.08.2023 ab 12 Uhr das erste Rabatz & Rabauken Familien Festival auf der Burg Vischering in Lüdinghausen\, mit kinderfreundlicher Live-Musik und spaßigem Rahmenprogramm. \nBeim deutschlandweit ersten Festival dieser Art\, präsentiert vom Kreis Coesfeld und Frechdachs Entertainment\, dürfen die Senkrechtstarter  von Heavysaurus nicht fehlen: „Zeitlich schaffen wir es nicht ganz zurück bis in die Kreidezeit\, aber eine 752 Jahre alte Burg passt ziemlich gut zu Dinos und Drachen“\, begründet Lukas Bertels von der Kulturabteilung des Kreises Coesfeld die Wahl der Festivallocation. \nHeavysaurus bietet Kindern und Familien ein unterhaltsames und fesselndes Musikerlebnis\, das in der Welt der Kinderunterhaltung seinesgleichen sucht. Ihre einzigartige Mischung aus Heavy-Metal-Musik und verspielten Texten hat die Herzen von Kindern und Eltern gleichermaßen erobert. Für 2023 stehen mittlerweile mehr als 100 Shows im Rahmen der „Kaugummi ist mega!“-Tour auf dem Tourkalender. „Mega“ wird auch das Programm\, das die Kinder und ihre Begleiterinnen und Begleiter erwartet. „Es wird noch bunter und spektakulärer“\, verspricht Sänger Mr. Heavysaurus\, ein (fast) waschechter Tyrannosaurus Rex. „Für viele Kinder ist unsere Show das erste Konzerterlebnis – und das wollen und werden wir ihnen und ihrer Familie unvergesslich machen!“ \nAuch mit dabei sind die KINDERS\, die neue Hip Hop Crew von Matthias\, Demet\, Steffen und Rap-Legende Olli. Mit vielen Jahrzehnten Erfahrung im Genre (Zusammenarbeiten u.a. mit Peter Fox\, Jan Delay\, Kool Savas\, Samy Deluxe\, etc.) und der Liebe zur Rapmusik haben sie bereits viele Erfolgsprojekte realisiert und wurden vom Wunsch angetrieben\, „reale“ Hip Hop Musik\, die auch Kinder anspricht\, an den Start zu bringen. \nMagisch wird es zudem mit dem Kinderzauberer Yandaal. Als Professor Yandaal gibt er mit seiner  “Harry Potter Show“ eine zauberhafte Schulstunde\, wie man sie sonst nur in Hogwarts erleben könnte. Er erzählt mit Live-Musik und Zauberei eine Geschichte von den Vorfahren der Romanhelden. Dabei müssen die Kinder die Harry Potter Geschichte nicht kennen. Was wichtig ist\, erklärt Yandaal und die Geschichte selbst ist verständlich und schlüssig ohne weitere Vorkenntnisse. \nDas Festival bietet neben musikalischen Highlights eine breite Palette von Aktivitäten für Kinder wie Bungee Trampolin\, Krakes Piratenland\, Crazy Jungle\, aber auch Kinderschminken & Dosenwerfen darf natürlich nicht fehlen. \n„Wir sind begeistert\, das erste Rabatz & Rabauken Festival zu veranstalten und freuen uns sehr darauf\, den Kindern und ihren Familien ein unvergessliches Erlebnis zu bieten. Eine großartige Gelegenheit für Familien\, sich zu vernetzen und gemeinsam Spaß zu haben.“ führt Michael Thiesen von Frechdachs Entertainment an. \n  \n\n☀️☔ Wetter: Das Festival wird auch bei regnerischem Wetter stattfinden.  \n🅿️ Parkplätze: Neben den burgeigenen Parkflächen gibt es noch folgende kostenfreie Parkmöglichkeiten in Burgnähe:  \nREWE\, Konrad-Adenauer-Str. 6 (10 min. Fußweg)  \nSporthalle\, Hinterm Hagen 82 (10 min. Fußweg) \n  \n\n12:00 Einlass \n13:00 – 13:15 Begrüßung \n13:15 – 14:00 Die Harry Potter Show \n15:00 – 15:45 Kinders \n16:00 – 17:15 Heavysaurus \n18:00 Ende\n(Änderungen vorbehalten) \n  \n\n  \nFür den Ticketkauf bitte HIER klicken. \nHeavysaurus | „Kaugummi ist mega!“ \n— \nTICKET KINDER 3-11 Jahre \nGrundpreis Kinder: 23 € zzgl. Vvk Gebühren \nTICKET ERWACHSENE ab 12 Jahren \nGrundpreis Erwachsene: 27 € zzgl. Vvk Gebühren \nFAMILIEN TICKET \nGrundpreis Familienticket (2 Erwachsene + 2 Kinder): 90 € zzgl. Vvk Gebühren \n— \nFoto: (c) Sony Music \n \n 
URL:https://burg-vischering.de/kulturprogramm/rabatz-rabauken-festival-heavysaurus-uvm/
LOCATION:Burg Vischering\, Berenbrock 1\, Lüdinghausen\, Nordrhein-Westfalen\, 59348\, Deutschland
CATEGORIES:Archiv-allgemeine-Veranstaltungen,Kinder, Jugend & Familie,Konzert
ATTACH;FMTTYPE=image/jpeg:https://burg-vischering.de/wp-content/uploads/2023/03/Heavysaurus-x-Kinders-scaled.jpg
END:VEVENT
END:VCALENDAR