BEGIN:VCALENDAR
VERSION:2.0
PRODID:-//burg-vischering - ECPv6.15.20//NONSGML v1.0//EN
CALSCALE:GREGORIAN
METHOD:PUBLISH
X-ORIGINAL-URL:https://burg-vischering.de
X-WR-CALDESC:Veranstaltungen für burg-vischering
REFRESH-INTERVAL;VALUE=DURATION:PT1H
X-Robots-Tag:noindex
X-PUBLISHED-TTL:PT1H
BEGIN:VTIMEZONE
TZID:Europe/Amsterdam
BEGIN:DAYLIGHT
TZOFFSETFROM:+0100
TZOFFSETTO:+0200
TZNAME:CEST
DTSTART:20220327T010000
END:DAYLIGHT
BEGIN:STANDARD
TZOFFSETFROM:+0200
TZOFFSETTO:+0100
TZNAME:CET
DTSTART:20221030T010000
END:STANDARD
BEGIN:DAYLIGHT
TZOFFSETFROM:+0100
TZOFFSETTO:+0200
TZNAME:CEST
DTSTART:20230326T010000
END:DAYLIGHT
BEGIN:STANDARD
TZOFFSETFROM:+0200
TZOFFSETTO:+0100
TZNAME:CET
DTSTART:20231029T010000
END:STANDARD
BEGIN:DAYLIGHT
TZOFFSETFROM:+0100
TZOFFSETTO:+0200
TZNAME:CEST
DTSTART:20240331T010000
END:DAYLIGHT
BEGIN:STANDARD
TZOFFSETFROM:+0200
TZOFFSETTO:+0100
TZNAME:CET
DTSTART:20241027T010000
END:STANDARD
END:VTIMEZONE
BEGIN:VEVENT
DTSTART;VALUE=DATE:20230514
DTEND;VALUE=DATE:20230724
DTSTAMP:20260422T123504
CREATED:20230301T142900Z
LAST-MODIFIED:20230825T074534Z
UID:9002-1684022400-1690156799@burg-vischering.de
SUMMARY:Schattenklänge: Achim Vogel Muranyi & Peter Vogel Heritage
DESCRIPTION:Die Ausstellung „Schattenklänge“ präsentiert zwei interaktive Klangwände der Künstler Achim Vogel Muranyi und Peter Vogel aus unterschiedlichen Zeitepochen. Die analoge Klangwand der ersten Generation Rhythmic Sounds I „Techno-Klangwand“ aus den 1990er Jahren und die digitale Klangwand der zweiten Generation Techno Klangwand – The Heart is a lonely DJ\, 2023 fertiggestellt\, sind inspiriert von Club- & Technomusik und intuitiv  bespielbar. Die mit Sensoren bestückten Klangwände sollen Orte der Aktivität des Zuschauers sein\, der aus seiner passiven Konsumentenrolle herausgelockt wird. Sie/er sollte der „Performer“ sein und mit seinen zeitlich strukturierten Bewegungen wie Rhythmus\, Dauer\, Pausen usw. die Klangereignisse auslösen und modifizieren. Das in den Klangwänden innewohnende komponierte Material\, eine „unvollendete“ Komposition\, kann strukturiert und damit „vollendet“ werden. Die Installationen stellen eine variable Komposition dar\, die die Betrachtenden/ Spielenden auf ihre individuelle Art „interpretieren“ und damit aus ihrem zunächst virtuellen Zustand zum Leben erweckt. \nAchim Vogel Muranyi ist ein deutscher zeitgenössischer Künstler und Komponist. Sein Werk umfasst Comic-Illustrationen und Gemäldeserien. Seit 2010 beschäftigt er sich mit elektronischen Kontrollmechanismen und Interaktivität sowie computergesteuerten visuellen und musikalischen Ereignissen. Peter Vogel zählt zu den Pionieren der Klangkunst und entwarf über vier Jahrzehnte elektronische Klangskulpturen und Bühnenperformances. Seine Arbeiten bestehen aus verschiedenen elektronischen Komponenten und verbinden die Zufälligkeit von beobachterabhängigen Reaktionen mit bestimmten determinierten Systemen. So entsteht ein komplexes reaktionsfähiges Netzwerk an Strukturen und Mustern. \nDas münsterlandweite Klangkunstfestival SOUNDSEEING wird ermöglicht durch die Förderung des Ministeriums für Kultur und Wissenschaft\, der Kunststiftung NRW\, der LWL-Kulturstiftung und der Gelsenwasser-Stiftung. Kultur und Medienpartner sind Kultur West und WDR 3. \n  \nZur feierlichen Ausstellungseröffnung lädt der Kreis Coesfeld am 14. Mai um 15 Uhr herzlich ein. Die Teilnahme an der Vernissage ist kostenlos.  \n  \nEintritt Kombiticket Dauerausstellung und Sonderausstellungen: 7\,5 € / erm. 5 €
URL:https://burg-vischering.de/kulturprogramm/schattenklaenge-achim-vogel-muranyi-peter-vogel-heritage/
LOCATION:Burg Vischering\, Berenbrock 1\, Lüdinghausen\, Nordrhein-Westfalen\, 59348\, Deutschland
CATEGORIES:Archiv-Ausstellung,Ausstellung
ATTACH;FMTTYPE=image/jpeg:https://burg-vischering.de/wp-content/uploads/2023/03/Ausstellung-Soundseeing-Burg-Vischering-2023-Luedinghausen-Vogel.jpg
ORGANIZER;CN="Burg Vischering":MAILTO:kultur@kreis-coesfeld.de
END:VEVENT
END:VCALENDAR