BEGIN:VCALENDAR
VERSION:2.0
PRODID:-//burg-vischering - ECPv6.15.20//NONSGML v1.0//EN
CALSCALE:GREGORIAN
METHOD:PUBLISH
X-WR-CALNAME:burg-vischering
X-ORIGINAL-URL:https://burg-vischering.de
X-WR-CALDESC:Veranstaltungen für burg-vischering
REFRESH-INTERVAL;VALUE=DURATION:PT1H
X-Robots-Tag:noindex
X-PUBLISHED-TTL:PT1H
BEGIN:VTIMEZONE
TZID:Europe/Amsterdam
BEGIN:DAYLIGHT
TZOFFSETFROM:+0100
TZOFFSETTO:+0200
TZNAME:CEST
DTSTART:20220327T010000
END:DAYLIGHT
BEGIN:STANDARD
TZOFFSETFROM:+0200
TZOFFSETTO:+0100
TZNAME:CET
DTSTART:20221030T010000
END:STANDARD
BEGIN:DAYLIGHT
TZOFFSETFROM:+0100
TZOFFSETTO:+0200
TZNAME:CEST
DTSTART:20230326T010000
END:DAYLIGHT
BEGIN:STANDARD
TZOFFSETFROM:+0200
TZOFFSETTO:+0100
TZNAME:CET
DTSTART:20231029T010000
END:STANDARD
BEGIN:DAYLIGHT
TZOFFSETFROM:+0100
TZOFFSETTO:+0200
TZNAME:CEST
DTSTART:20240331T010000
END:DAYLIGHT
BEGIN:STANDARD
TZOFFSETFROM:+0200
TZOFFSETTO:+0100
TZNAME:CET
DTSTART:20241027T010000
END:STANDARD
END:VTIMEZONE
BEGIN:VEVENT
DTSTART;VALUE=DATE:20230205
DTEND;VALUE=DATE:20230605
DTSTAMP:20260422T142840
CREATED:20230209T143319Z
LAST-MODIFIED:20230209T143319Z
UID:8937-1675555200-1685923199@burg-vischering.de
SUMMARY:Naturgeschichten – Botanik und Kunst im Dialog
DESCRIPTION:Nature and culture – two terms that are reciprocal and constantly redefined. Today both terms are more relevant than ever and omnipresent in our day to day lives\, media and art. The new temporary exhibition invites visitors to travel to the 18th century and back to explore how perspectives on and perceptions of nature and culture have changed over the course of time. \nContemporary artworks of the artists Maike Denker\, Judith Kaminski\, Alem Kolbus\, Julia Löffler\, Heike Negenborn and Phillipp Valenta discuss the construction of landscape\, appropriation of nature\, the meaning of houseplants and human traces in nature. The exhibition’s historical part follows the life of the botanist and doctor Franz Wernekinck who was born at Vischering Castle in the late 18th century and worked on exploring the flora in westphalia and taught botany at the newly founded university in Münster. \nEntry: 3\,5 € / 2 € \nPhotos: Julia Löffler\, aus der Serie „Exotic Plant Hunters“: 1) Porträt von Ernst Haeckel in seiner Tropenforscher-Ausrüstung. 1860 – 1900\, 2) »It’s a jungle out there.You know what would look good with this plant? MORE OF THEM! Am I right!?!« @bellabucchiotti. 2020
URL:https://burg-vischering.de/kulturprogramm/naturgeschichten-botanik-und-kunst-im-dialog/
LOCATION:Burg Vischering\, Berenbrock 1\, Lüdinghausen\, Nordrhein-Westfalen\, 59348\, Deutschland
ATTACH;FMTTYPE=image/jpeg:https://burg-vischering.de/wp-content/uploads/2023/02/Naturgeschichten.jpg
ORGANIZER;CN="Burg Vischering":MAILTO:kultur@kreis-coesfeld.de
END:VEVENT
BEGIN:VEVENT
DTSTART;TZID=Europe/Amsterdam:20230205T080000
DTEND;TZID=Europe/Amsterdam:20230604T170000
DTSTAMP:20260422T142840
CREATED:20230203T084539Z
LAST-MODIFIED:20230825T074624Z
UID:8894-1675584000-1685898000@burg-vischering.de
SUMMARY:Naturgeschichten - Botanik und Kunst im Dialog
DESCRIPTION:Natur und Kultur – zwei Begriffe\, die in einem besonderen Spannungsverhältnis stehen und im Wandel der Zeit stets neu ausgehandelt wurden. Heute ist das Begriffspaar relevanter denn je und omnipräsent in Medien\, Alltag\, Kunst. Die aktuelle Sonderausstellung nimmt Besucher und Besucherinnen mit auf eine Zeitreise und diskutiert Perspektiven auf Natur und Kultur vom 18. Jahrhundert bis heute. \nZeitgenössische Positionen der Künstlerinnen und Künstler Maike Denker\, Judith Kaminski\, Alem Kolbus\, Julia Löffler und Heike Negenborn und Philipp Valenta beschäftigen sich mit Landschaftskonstruktion\, Naturaneignung\, der Bedeutung von Zimmerpflanzen und menschlichen Spuren in der Natur. Dem gegenüber steht eine historische Perspektive\, die sich mit dem Leben des Botanikers Franz Wernekinck auseinandersetzt\, der im 18. Jahrhundert auf Burg Vischering geboren wurde und sich den floristischen Erkundungen und der botanischen Lehre in Westfalen widmete. \n  \nEinmal monatlich können Besuchende die Sonderausstellung im Rahmen einer Impulsführung mit Dominik Olbrisch und Julia Kleine-Bley – Kulturreferent & Kuratorin – erkunden. Die Teilnahme an der Impulsführung ist kostenlos. Zu entrichten ist lediglich der Ausstellungseintritt. \nTermine: 09. Feb | 09. März | 06. Apr |  04. Mai | 01. Jun | je 17 Uhr \nEintritt: 3\,5 € / erm. 2 € \n  \nEin digitaler Einblick in die Ausstellung für Jugendliche und Kinder ist hier zu finden. \n  \nFotos: Julia Löffler\, aus der Serie „Exotic Plant Hunters“: 1) Porträt von Ernst Haeckel in seiner Tropenforscher-Ausrüstung. 1860 – 1900\, 2) »It’s a jungle out there.You know what would look good with this plant? MORE OF THEM! Am I right!?!« @bellabucchiotti. 2020
URL:https://burg-vischering.de/kulturprogramm/naturgeschichten-botanik-und-kunst-im-dialog-2/
LOCATION:Nordrhein-Westfalen
CATEGORIES:Archiv-Ausstellung,Ausstellung
ATTACH;FMTTYPE=image/jpeg:https://burg-vischering.de/wp-content/uploads/2023/02/Ankuendigung-Botanik-Ausstellung-Burg-Vischering.jpg
END:VEVENT
BEGIN:VEVENT
DTSTART;TZID=Europe/Amsterdam:20230511T200000
DTEND;TZID=Europe/Amsterdam:20230511T220000
DTSTAMP:20260422T142840
CREATED:20230120T114634Z
LAST-MODIFIED:20230825T074547Z
UID:8847-1683835200-1683842400@burg-vischering.de
SUMMARY:Shalosh
DESCRIPTION:Sie schwärmen für Nirvana und Brahm\, werden immer wieder mit e.s.t.\, GoGo Penguin und The Bad Plus verglichen und begeistern ihr Publikum seit sieben Jahren in über 350 Konzerten weltweit. Sie verbinden mit furioser Leidenschaft unterschiedliche Stile. Jazz trifft hier mit großer Kraft und Leidenschaft auf Rock\, Elektronik und Klassik. Shalosh machen Songs ohne Worte voller Emotionen und Intensität. Ihre Musik ist inspirierend\, eingängig\, wuchtig und doch filigran\, es entstehen wunderbare Klanggemälde\, die faszinieren und berauschen. \n“Die drei Musiker explodieren fast vor Spielfreude. Ihre extrovertierte Umsetzung des kompositorischen Materials überwältigt. Ihre melodischen Wechsel\, ihr Variieren der Zeit (mehrmals innerhalb eines Stückes)\, ihr improvisatorischer Funkenflug lotet die Grenzen des Jazz gewaltig aus. Rockige Querverweise\, östliche und afrikanische Ideen\, ja selbst elektronische Erweiterungen paaren sich mit klassischer Virtuosität und energiegeladenem Jazz.” – JAZZ FIRST | JÖRG KONRAD \nGadi Stern – Piano & Synths\nDavid Michaeli – Kontrabass\nMatan Assayag – Schlagzeug \nTicketpreise: 20 € / erm. 17 € (online zzgl. VVK-Gebühr) \nZum Ticketkauf bitte HIER klicken. \nFoto: ©Zohar Ron
URL:https://burg-vischering.de/kulturprogramm/shalosh/
LOCATION:Burg Vischering\, Berenbrock 1\, Lüdinghausen\, Nordrhein-Westfalen\, 59348\, Deutschland
CATEGORIES:Archiv-Konzert,Konzert
ATTACH;FMTTYPE=image/jpeg:https://burg-vischering.de/wp-content/uploads/2023/01/Shalosh-Jazz-Konzert-Burg-Vischering-Luedinghausen.jpg
ORGANIZER;CN="Burg Vischering":MAILTO:kultur@kreis-coesfeld.de
END:VEVENT
BEGIN:VEVENT
DTSTART;TZID=Europe/Amsterdam:20230511T200000
DTEND;TZID=Europe/Amsterdam:20230511T220000
DTSTAMP:20260422T142840
CREATED:20230220T092929Z
LAST-MODIFIED:20230220T093702Z
UID:8968-1683835200-1683842400@burg-vischering.de
SUMMARY:Shalosh
DESCRIPTION:SHALOSH is an instrumental piano trio\, that belongs to the current generation of cross genre jazz groups able to reach a wide spectrum of audiences\, in the Jazz world as well as in other genres. Their music is raw\, acoustic and progressive\, crossing stylistic boundaries and defying definition.   In its seven years of activity\, SHALOSH has performed an astonishing 350 international shows on some of the world’s most prestigious stages. Despite its classic jazz trio format (piano\, bass and drums) and the band members’ deep roots in jazz and improvised music\, SHALOSH’s music weaves its own path and creates a unique and fascinating synthesis out of such varied genres as rock\, classical\, electronic\, African\, and Middle Eastern music. \nThe story behind the band begins in Jerusalem\, where childhood friends Matan Assayag (drums) and Gadi Stern (piano) formed the mythological Jerusalem band ‘Enoma Elish’.  After the band broke up\, Assayag and Stern continued their musical partnership\, between Israel and New York\, where Gadi lived at the time\, breathing in and drawing inspiration from the local jazz scene. In early 2014 they decided to form SHALOSH and in 2016  enlisted bass player David Michaeli\, one of today’s most promising musicians in Israel. Since their debut album\, The Bell Garden\, came out\, in March 2014\, SHALOSH has made a deep mark on the international scene. \nTickets: 20 € / 17 € \nClick HERE to buy tickets \nPhoto: © Zohar Ron
URL:https://burg-vischering.de/kulturprogramm/shalosh/
LOCATION:Berenbrock 1\, Lüdinghausen\, Nordrhein-Westfalen\, 59348\, Deutschland
ATTACH;FMTTYPE=image/jpeg:https://burg-vischering.de/wp-content/uploads/2023/02/Shalosh-Jazz-Konzert-Burg-Vischering-Luedinghausen.jpg
END:VEVENT
END:VCALENDAR