BEGIN:VCALENDAR
VERSION:2.0
PRODID:-//burg-vischering - ECPv6.15.20//NONSGML v1.0//EN
CALSCALE:GREGORIAN
METHOD:PUBLISH
X-ORIGINAL-URL:https://burg-vischering.de
X-WR-CALDESC:Veranstaltungen für burg-vischering
REFRESH-INTERVAL;VALUE=DURATION:PT1H
X-Robots-Tag:noindex
X-PUBLISHED-TTL:PT1H
BEGIN:VTIMEZONE
TZID:Europe/Amsterdam
BEGIN:DAYLIGHT
TZOFFSETFROM:+0100
TZOFFSETTO:+0200
TZNAME:CEST
DTSTART:20200329T010000
END:DAYLIGHT
BEGIN:STANDARD
TZOFFSETFROM:+0200
TZOFFSETTO:+0100
TZNAME:CET
DTSTART:20201025T010000
END:STANDARD
BEGIN:DAYLIGHT
TZOFFSETFROM:+0100
TZOFFSETTO:+0200
TZNAME:CEST
DTSTART:20210328T010000
END:DAYLIGHT
BEGIN:STANDARD
TZOFFSETFROM:+0200
TZOFFSETTO:+0100
TZNAME:CET
DTSTART:20211031T010000
END:STANDARD
BEGIN:DAYLIGHT
TZOFFSETFROM:+0100
TZOFFSETTO:+0200
TZNAME:CEST
DTSTART:20220327T010000
END:DAYLIGHT
BEGIN:STANDARD
TZOFFSETFROM:+0200
TZOFFSETTO:+0100
TZNAME:CET
DTSTART:20221030T010000
END:STANDARD
BEGIN:DAYLIGHT
TZOFFSETFROM:+0100
TZOFFSETTO:+0200
TZNAME:CEST
DTSTART:20230326T010000
END:DAYLIGHT
BEGIN:STANDARD
TZOFFSETFROM:+0200
TZOFFSETTO:+0100
TZNAME:CET
DTSTART:20231029T010000
END:STANDARD
END:VTIMEZONE
BEGIN:VEVENT
DTSTART;VALUE=DATE:20211010
DTEND;VALUE=DATE:20220124
DTSTAMP:20260423T152753
CREATED:20210804T125932Z
LAST-MODIFIED:20211202T131528Z
UID:4656-1633824000-1642982399@burg-vischering.de
SUMMARY:ART Vischering
DESCRIPTION:Große Kunst nicht nur im Museum bewundern\, sondern auch nach Hause tragen: Das können Interessierte in der beliebten Ausstellungsreihe „ART Vischering“\, die alljährlich in der Burg Vischering stattfindet. Hier wird Kunst zum Kauf angeboten\, als Geschenk für sich und andere. Grafik und Malerei von renommierten\, aber auch von jungen Künstlerinnen und Künstlern werden präsentiert. In der Ausstellung stehen große Namen neben Künstlern aus der heimischen Region und sorgen so für eine abwechslungsreiche Ausstellung. \nEine Auswahl der zum Verkauf stehenden Werke wird zudem digital präsentiert. \nMit Werken von: \nMechtild van Ahlers | Ochirbold Ayurzana | Heike Kati Barath | Joseph Beuys | Gabi Dahl | Isa Dahl | Duvan | Gerda Falke | Markus Fräger | Max Giermann |Dorthe Goeden | Andreas Gorke | Antonius Höckelmann | Beate Höing | Stephan Hörnig | Jörg Immendorff | Gunilla Jähnichen | Barbara Jänke | Andreas Junge | Barbara Kämereit | Elizabeth Kaufmann-Granda | Doris Kastner | Min Clara Kim | Per Kirkeby | Sala Lieber | Markus Lüpertz | Heiner Meyer | Armin Mueller-Stahl | Sigrid Nienstedt | Noah Omer | Sebastian Osterhaus | A. R. Penck | Mathias Perlet | Milan Peschel | Stefan Pietryga | Bernd Polster | Sandra Pulina | Lars Reiffers | Hans Scheib | H. A. Schult | Paul Schwer | Caius Spillner | Norbert Tadeusz | Antoni Tàpies | Ingrid Teiner | Antonia Thürich | Klaus Trawny (Gewinner Kunst im Park 2021) | Gan-Erdene Tsend | Fons van Laar und vielen mehr. \nEintritt: 3\,50 €\, erm. 2 € \nBitte beachten Sie\, dass der Zugang nach der 2G-Regelung (Geimpft oder Genesen) nur mit einem gültigen Impf- oder entsprechendem Immunisierungsnachweis möglich ist.
URL:https://burg-vischering.de/kulturprogramm/art-vischering-4/
LOCATION:Burg Vischering\, Berenbrock 1\, Lüdinghausen\, Nordrhein-Westfalen\, 59348\, Deutschland
CATEGORIES:Ausstellung
ATTACH;FMTTYPE=image/jpeg:https://burg-vischering.de/wp-content/uploads/2021/08/ART-Vischering-social-media-©Kreis-Coesfeld-Lukas-Bertels-21.jpg
ORGANIZER;CN="Burg Vischering":MAILTO:kultur@kreis-coesfeld.de
END:VEVENT
BEGIN:VEVENT
DTSTART;TZID=Europe/Amsterdam:20211128T140000
DTEND;TZID=Europe/Amsterdam:20211128T170000
DTSTAMP:20260423T152753
CREATED:20210825T103430Z
LAST-MODIFIED:20211104T131230Z
UID:4746-1638108000-1638118800@burg-vischering.de
SUMMARY:Ritterschilde bemalen
DESCRIPTION:Bei diesem Ferienprogramm kann jedes Kind ein Ritterschild bunt bemalen. Damit die Schilde am Ende auch richtig toll aussehen\, werden die Kinder von der Künstlerin Ria Maris bei der Auswahl und Umsetzung der Motive sowie der Maltechnik unterstützt. Als Vorlagen kommen historische Schildmotive in Frage. Natürlich dienen diese nur als Ideengeber\, die Kinder können auch ganz eigene Motive entwickeln und ihrer Fantasie freien Lauf lassen. Nebenbei erfahren sie noch einiges über die Bedeutung der Schilde in der Ritterzeit. Warum benutzten die Ritter überhaupt Schilde und weshalb waren sie schon im Mittelalter bunt bemalt. Die selbst gestalteten Holzschilde dürfen natürlich mit nach Hause genommen werden. \nOrt: Burg Vischering\, Räume der Bildung und Begegnung\nTreffpunkt: Burg Vischering\, Eingang Foyer Vorburg\nTeilnehmende: Kinder von 9 – 12 Jahren\nKosten: inkl. Materialkosten\nAnmeldung: 02591/7997-0 oder kultur@kreis-coesfeld.de \nKontaktdatenerfassung erforderlich
URL:https://burg-vischering.de/kulturprogramm/ritterschilde-bemalen/
LOCATION:Burg Vischering\, Berenbrock 1\, Lüdinghausen\, Nordrhein-Westfalen\, 59348\, Deutschland
CATEGORIES:Kinder, Jugend & Familie
ATTACH;FMTTYPE=image/jpeg:https://burg-vischering.de/wp-content/uploads/2021/08/BVB-Schild-scaled.jpg
END:VEVENT
BEGIN:VEVENT
DTSTART;TZID=Europe/Amsterdam:20211128T150000
DTEND;TZID=Europe/Amsterdam:20211128T161500
DTSTAMP:20260423T152753
CREATED:20181213T104532Z
LAST-MODIFIED:20211105T112647Z
UID:613-1638111600-1638116100@burg-vischering.de
SUMMARY:Schauspielführung: Mit Rentmeister Adolph Heidenreich Wernekinck durch die Burg
DESCRIPTION:Leicht gehetzt und etwas angeschlagen begibt sich Rentmeister Adolph Heidenreich Wernekinck in der Burg auf die Suche\, er braucht unbedingt ein gewisses Zettelchen. Seine Frau hat ihn genötigt\, dabei gleich noch ein paar neugierige Verwandte mitzunehmen\, die schon immer einmal wissen wollten\, wie es sich in der Burg so lebt. Die Herrschaften sind nicht im Hause – da lässt sich ein Blick wagen\, und der Rentmeister nimmt kein Blatt vor den Mund\, ob es um die Feierlichkeiten\, Pflichten im Ehebett und Verfehlungen des gemeinen Volkes geht. Leisten Sie dem Rentmeister bei seinem Gang durch die alt ehrwürdigen Räumlichkeiten der Burg Vischering Gesellschaft und erfahren Sie Interessantes über die Geschichte der Burg und das Leben darin und drumherum im ausgehenden 17. Jahrhundert. \nTreffpunkt: Burg Vischering\, Innenhof\nTeilnehmende: Max. 10 Erwachsene\nKosten: Museumseintritt + 5 € pro Person\nAnmeldung: 02591/7997-0 oder kultur@kreis-coesfeld.de\nBei privater Buchung kostet die Führung unabhängig von der\nTeilnehmerzahl 140 € zuzüglich 3 € Museumseintritt
URL:https://burg-vischering.de/kulturprogramm/mit-rentmeister-adolph-heidenreich-wernekinck-durch-die-burg/
LOCATION:Nordrhein-Westfalen
CATEGORIES:Erwachsene
ATTACH;FMTTYPE=image/jpeg:https://burg-vischering.de/wp-content/uploads/2018/12/Burg-Vischering-Fuehrungen-Rentmeister-e1576844489681.jpg
END:VEVENT
END:VCALENDAR