BEGIN:VCALENDAR
VERSION:2.0
PRODID:-//burg-vischering - ECPv6.15.20//NONSGML v1.0//EN
CALSCALE:GREGORIAN
METHOD:PUBLISH
X-ORIGINAL-URL:https://burg-vischering.de
X-WR-CALDESC:Veranstaltungen für burg-vischering
REFRESH-INTERVAL;VALUE=DURATION:PT1H
X-Robots-Tag:noindex
X-PUBLISHED-TTL:PT1H
BEGIN:VTIMEZONE
TZID:Europe/Amsterdam
BEGIN:DAYLIGHT
TZOFFSETFROM:+0100
TZOFFSETTO:+0200
TZNAME:CEST
DTSTART:20200329T010000
END:DAYLIGHT
BEGIN:STANDARD
TZOFFSETFROM:+0200
TZOFFSETTO:+0100
TZNAME:CET
DTSTART:20201025T010000
END:STANDARD
BEGIN:DAYLIGHT
TZOFFSETFROM:+0100
TZOFFSETTO:+0200
TZNAME:CEST
DTSTART:20210328T010000
END:DAYLIGHT
BEGIN:STANDARD
TZOFFSETFROM:+0200
TZOFFSETTO:+0100
TZNAME:CET
DTSTART:20211031T010000
END:STANDARD
BEGIN:DAYLIGHT
TZOFFSETFROM:+0100
TZOFFSETTO:+0200
TZNAME:CEST
DTSTART:20220327T010000
END:DAYLIGHT
BEGIN:STANDARD
TZOFFSETFROM:+0200
TZOFFSETTO:+0100
TZNAME:CET
DTSTART:20221030T010000
END:STANDARD
BEGIN:DAYLIGHT
TZOFFSETFROM:+0100
TZOFFSETTO:+0200
TZNAME:CEST
DTSTART:20230326T010000
END:DAYLIGHT
BEGIN:STANDARD
TZOFFSETFROM:+0200
TZOFFSETTO:+0100
TZNAME:CET
DTSTART:20231029T010000
END:STANDARD
END:VTIMEZONE
BEGIN:VEVENT
DTSTART;VALUE=DATE:20211010
DTEND;VALUE=DATE:20220124
DTSTAMP:20260423T141319
CREATED:20210804T125932Z
LAST-MODIFIED:20211202T131528Z
UID:4656-1633824000-1642982399@burg-vischering.de
SUMMARY:ART Vischering
DESCRIPTION:Große Kunst nicht nur im Museum bewundern\, sondern auch nach Hause tragen: Das können Interessierte in der beliebten Ausstellungsreihe „ART Vischering“\, die alljährlich in der Burg Vischering stattfindet. Hier wird Kunst zum Kauf angeboten\, als Geschenk für sich und andere. Grafik und Malerei von renommierten\, aber auch von jungen Künstlerinnen und Künstlern werden präsentiert. In der Ausstellung stehen große Namen neben Künstlern aus der heimischen Region und sorgen so für eine abwechslungsreiche Ausstellung. \nEine Auswahl der zum Verkauf stehenden Werke wird zudem digital präsentiert. \nMit Werken von: \nMechtild van Ahlers | Ochirbold Ayurzana | Heike Kati Barath | Joseph Beuys | Gabi Dahl | Isa Dahl | Duvan | Gerda Falke | Markus Fräger | Max Giermann |Dorthe Goeden | Andreas Gorke | Antonius Höckelmann | Beate Höing | Stephan Hörnig | Jörg Immendorff | Gunilla Jähnichen | Barbara Jänke | Andreas Junge | Barbara Kämereit | Elizabeth Kaufmann-Granda | Doris Kastner | Min Clara Kim | Per Kirkeby | Sala Lieber | Markus Lüpertz | Heiner Meyer | Armin Mueller-Stahl | Sigrid Nienstedt | Noah Omer | Sebastian Osterhaus | A. R. Penck | Mathias Perlet | Milan Peschel | Stefan Pietryga | Bernd Polster | Sandra Pulina | Lars Reiffers | Hans Scheib | H. A. Schult | Paul Schwer | Caius Spillner | Norbert Tadeusz | Antoni Tàpies | Ingrid Teiner | Antonia Thürich | Klaus Trawny (Gewinner Kunst im Park 2021) | Gan-Erdene Tsend | Fons van Laar und vielen mehr. \nEintritt: 3\,50 €\, erm. 2 € \nBitte beachten Sie\, dass der Zugang nach der 2G-Regelung (Geimpft oder Genesen) nur mit einem gültigen Impf- oder entsprechendem Immunisierungsnachweis möglich ist.
URL:https://burg-vischering.de/kulturprogramm/art-vischering-4/
LOCATION:Burg Vischering\, Berenbrock 1\, Lüdinghausen\, Nordrhein-Westfalen\, 59348\, Deutschland
CATEGORIES:Ausstellung
ATTACH;FMTTYPE=image/jpeg:https://burg-vischering.de/wp-content/uploads/2021/08/ART-Vischering-social-media-©Kreis-Coesfeld-Lukas-Bertels-21.jpg
ORGANIZER;CN="Burg Vischering":MAILTO:kultur@kreis-coesfeld.de
END:VEVENT
BEGIN:VEVENT
DTSTART;TZID=Europe/Amsterdam:20211106T080000
DTEND;TZID=Europe/Amsterdam:20211106T170000
DTSTAMP:20260423T141319
CREATED:20210903T111533Z
LAST-MODIFIED:20221221T092235Z
UID:4675-1636185600-1636218000@burg-vischering.de
SUMMARY:Shake Stew
DESCRIPTION:Das Münsterland Festival bringt für das Abschlusskonzert der elften Festivalausgabe mit der Band Shake Stew österreichische Shooting-Stars auf die Bühne der Burg Vischering. Sie präsentieren mit ihrem Programm „(A)LIVE!“ einen Mix aus hypnotischen Afrobeats und ekstatischen Sound-Eruptionen. Kaum eine andere Band hat die mitteleuropäische Jazzszene in den vergangenen Jahren derart auf den Kopf gestellt wie Shake Stew. Während die ZEIT sie als „Österreichs Jazzband der Stunde“ bezeichnete und der NDR ihr schon früh den Status „Kultband“ verlieh\, ist spätestens seit der Verleihung des Deutschen Jazzpreises im Juni 2021 klar: Hier ist etwas ins Rollen gekommen\, das es so noch nicht gegeben hat. Von Beginn an umgibt die vom Bassisten und Komponisten Lukas Kranzelbinder ins Leben gerufene Formation etwas Mystisches\, das im Live-Konzert eine soghafte Wirkung entfacht. \n  \nEinlass: 19 Uhr |Beginn: 20:30 Uhr | Führung: 17 Uhr (Dauer: ca. 1h) \nTickets: 25€ im VVK\, 32€ inklusive Führung \nFür den Ticketkauf bitte hier klicken \nEinlass nur mit aktuellem Negativtest oder Immunisierungsnachweis. \n  \nFoto: Severin Koller \nDas Konzert wird ermöglicht durch die Sparkasse Westmünsterland und die Inge und Wolfgang Tietze-Stiftung \n  \n \n  \nDie Veranstaltungsreihe „back to culture“ wird im Programm 2021 durch die Beauftrage der Bundesregierung für Kultur und Medien (BKM) mit Mitteln aus NEUSTART KULTUR gefördert.
URL:https://burg-vischering.de/kulturprogramm/shake-stew/
LOCATION:Burg Vischering\, Berenbrock 1\, Lüdinghausen\, Nordrhein-Westfalen\, 59348\, Deutschland
CATEGORIES:Archiv-BurgJazz,Archiv-Konzert
ATTACH;FMTTYPE=image/jpeg:https://burg-vischering.de/wp-content/uploads/2021/09/Konzert-Shake-Stew-Burg-Vischering.jpg
END:VEVENT
BEGIN:VEVENT
DTSTART;TZID=Europe/Amsterdam:20211106T080000
DTEND;TZID=Europe/Amsterdam:20211106T170000
DTSTAMP:20260423T141319
CREATED:20211104T100023Z
LAST-MODIFIED:20221221T091838Z
UID:5248-1636185600-1636218000@burg-vischering.de
SUMMARY:Shake Stew
DESCRIPTION:
URL:https://burg-vischering.de/kulturprogramm/shake-stew/
LOCATION:Burg Vischering\, Berenbrock 1\, Lüdinghausen\, Nordrhein-Westfalen\, 59348\, Deutschland
CATEGORIES:Archive-BurgJazz,Concert
ATTACH;FMTTYPE=image/jpeg:https://burg-vischering.de/wp-content/uploads/2021/11/BURG-Vischering-Shake-Stew.jpg
END:VEVENT
BEGIN:VEVENT
DTSTART;TZID=Europe/Amsterdam:20211106T180000
DTEND;TZID=Europe/Amsterdam:20211106T193000
DTSTAMP:20260423T141319
CREATED:20210923T141024Z
LAST-MODIFIED:20221221T091829Z
UID:4821-1636221600-1636227000@burg-vischering.de
SUMMARY:Shake Stew
DESCRIPTION:Das Münsterland Festival bringt für das Abschlusskonzert der elften Festivalausgabe mit der Band Shake Stew österreichische Shooting-Stars auf die Bühne der Burg Vischering. Sie präsentieren mit ihrem Programm „(A)LIVE!“ einen Mix aus hypnotischen Afrobeats und ekstatischen Sound-Eruptionen. Kaum eine andere Band hat die mitteleuropäische Jazzszene in den vergangenen Jahren derart auf den Kopf gestellt wie Shake Stew. Während die ZEIT sie als „Österreichs Jazzband der Stunde“ bezeichnete und der NDR ihr schon früh den Status „Kultband“ verlieh\, ist spätestens seit der Verleihung des Deutschen Jazzpreises im Juni 2021 klar: Hier ist etwas ins Rollen gekommen\, das es so noch nicht gegeben hat. Von Beginn an umgibt die vom Bassisten und Komponisten Lukas Kranzelbinder ins Leben gerufene Formation etwas Mystisches\, das im Live-Konzert eine soghafte Wirkung entfacht. \n  \nEinlass: 17:30 Uhr | Beginn: 18:00 Uhr | Führung: 15:30 Uhr \nTickets: 25€ im VVK\, 32€ inklusive Führung \nFür den Ticketkauf bitte hier klicken \nEinlass nur mit aktuellem Negativtest oder Immunisierungsnachweis. \n  \nFoto: Andreas Waldschütz \nDas Konzert wird ermöglicht durch die Sparkasse Westmünsterland und die Inge und Wolfgang Tietze-Stiftung \n  \n \n  \nDie Veranstaltungsreihe „back to culture“ wird im Programm 2021 durch die Beauftrage der Bundesregierung für Kultur und Medien (BKM) mit Mitteln aus NEUSTART KULTUR gefördert.
URL:https://burg-vischering.de/kulturprogramm/shake-stew-2/
LOCATION:Burg Vischering\, Berenbrock 1\, Lüdinghausen\, Nordrhein-Westfalen\, 59348\, Deutschland
CATEGORIES:Archiv-BurgJazz,Konzert
ATTACH;FMTTYPE=image/jpeg:https://burg-vischering.de/wp-content/uploads/2021/09/1-Shake-Stew-c-Andreas-Waldschuetz__72dpi.jpg
END:VEVENT
END:VCALENDAR