BEGIN:VCALENDAR
VERSION:2.0
PRODID:-//burg-vischering - ECPv6.15.20//NONSGML v1.0//EN
CALSCALE:GREGORIAN
METHOD:PUBLISH
X-ORIGINAL-URL:https://burg-vischering.de
X-WR-CALDESC:Veranstaltungen für burg-vischering
REFRESH-INTERVAL;VALUE=DURATION:PT1H
X-Robots-Tag:noindex
X-PUBLISHED-TTL:PT1H
BEGIN:VTIMEZONE
TZID:Europe/Amsterdam
BEGIN:DAYLIGHT
TZOFFSETFROM:+0100
TZOFFSETTO:+0200
TZNAME:CEST
DTSTART:20200329T010000
END:DAYLIGHT
BEGIN:STANDARD
TZOFFSETFROM:+0200
TZOFFSETTO:+0100
TZNAME:CET
DTSTART:20201025T010000
END:STANDARD
BEGIN:DAYLIGHT
TZOFFSETFROM:+0100
TZOFFSETTO:+0200
TZNAME:CEST
DTSTART:20210328T010000
END:DAYLIGHT
BEGIN:STANDARD
TZOFFSETFROM:+0200
TZOFFSETTO:+0100
TZNAME:CET
DTSTART:20211031T010000
END:STANDARD
BEGIN:DAYLIGHT
TZOFFSETFROM:+0100
TZOFFSETTO:+0200
TZNAME:CEST
DTSTART:20220327T010000
END:DAYLIGHT
BEGIN:STANDARD
TZOFFSETFROM:+0200
TZOFFSETTO:+0100
TZNAME:CET
DTSTART:20221030T010000
END:STANDARD
END:VTIMEZONE
BEGIN:VEVENT
DTSTART;VALUE=DATE:20210815
DTEND;VALUE=DATE:20211031
DTSTAMP:20260421T164859
CREATED:20210702T100756Z
LAST-MODIFIED:20210923T074339Z
UID:4503-1628985600-1635638399@burg-vischering.de
SUMMARY:Sieben Spielwunder. Klang- und Videoinstallationen von Dodo Schielein und Torsten Bruch
DESCRIPTION:SOUNDSEEING \nIn der Ausstellung „Sieben Spielwunder“ thematisiert das Hamburger Künstlerpaar Dodo Schielein und Torsten Bruch vielfältige Zugänge von Körper und Klang. Anhand von sieben meist klingenden Arbeiten bekommen die Besucherinnen und Besucher Einblicke in fiktive\, spielerische Welten\, in denen der Klang verkörpert wird oder der eigene Körper durch Handlungsanweisungen zum Klangerzeuger wird. \nTorsten Bruch zeigt unter anderem seine zwei 5-Kanal Videoinstallationen „Space Station“ und „Ping Pong“\, in denen der Künstler mehrfach in unterschiedlichen Rollen auftritt. Von Dodo Schielein sind unter anderem die interaktiven Arbeiten „paper music #3+#4“\, „Musik zu Fuß“ sowie „body sound“ zu sehen\, welche die Besucher und Besucherinnen auffordern\, Rhythmen und Klänge mit dem eigenen Körper zu kreieren. \nEintritt: regulärer Museumseintritt \nAusstellungseröffnung So\, 15. Aug | 15 Uhr\nZur Eröffnung im Innenhof der Hauptburg laden wir Sie herzlich ein. Im Rahmen der Vernissage wird Dodo Schielein ihre Arbeiten performativ zum Klingen bringen.\n \nZur Eröffnung melden Sie sich bitte telefonisch unter 02591-7990-0 oder unter kultur@kreis-coesfeld.de an. Zutritt nur mit aktuellem negativen Coronatest oder entsprechender Immunisierung. \n  \n  \nDodo Schielein und Torsten Bruch \n  \nDas münsterlandweite Klangkunstfestival SOUNDSEEING wird ermöglicht durch die Förderung des Ministeriums für Kultur und Wissenschaft\, der Kunststiftung NRW\, der LWL-Kulturstiftung und der Gelsenwasser-Stiftung. Kultur und Medienpartner sind Kultur West und WDR 3.\nMehr sehen und hören? https://www.soundseeing.net\nSocial media:\nhttps://www.instagram.com/klangkunstfestival_soundseeing/\nhttps://www.facebook.com/LandesmusikakademieNRW \n  \n \n \n \n 
URL:https://burg-vischering.de/kulturprogramm/soundseeing-klanginstallation-dodo-schielein-und-thomas-bruch/
LOCATION:Burg Vischering\, Berenbrock 1\, Lüdinghausen\, Nordrhein-Westfalen\, 59348\, Deutschland
CATEGORIES:Ausstellung
ATTACH;FMTTYPE=image/jpeg:https://burg-vischering.de/wp-content/uploads/2021/07/Dodo_Schielein_paper_music3-scaled.jpg
ORGANIZER;CN="Burg Vischering":MAILTO:kultur@kreis-coesfeld.de
END:VEVENT
BEGIN:VEVENT
DTSTART;VALUE=DATE:20211002
DTEND;VALUE=DATE:20211004
DTSTAMP:20260421T164859
CREATED:20200120T160221Z
LAST-MODIFIED:20250704T112218Z
UID:2039-1633132800-1633305599@burg-vischering.de
SUMMARY:Annotopia
DESCRIPTION:ANNOTOPIA ist zurück in Lüdinghausen! \nNach der Corona-Zwangspause kommt Deutschlands größtes Fantasy-Festival am 02. und 03. Oktober wieder zurück ins Münsterland. \nProfessor Abraxo – seines Zeichens Erfinder und Zeitreisender – lädt wieder herzlichst auf das Gelände an der Burg Vischering ein – coronabedingt diesmal erst im Herbst. Mit seiner Zeitmaschine\, dem SteamRider\, reiste der Professor jahrzehntelang durch Raum und Zeit. Er erlebte unglaubliche Abenteuer und begegnete fantastischen Wesen und Helden aller Epochen und Galaxien. Aus Begegnungen wurde Freundschaft und nun ist es wieder einmal höchste Zeit\, die fantastischen Freundinnen und Freunde zu Annotopia zusammenzutrommeln. Freuen Sie sich auf Begegnungen mit karibischen Piraten\, Wikingern aus den Nordlanden\, Germanen und Sachsen aus dem Mittelalter\, verrückten Wissenschaftlerinnen und Abenteurern aus der viktorianischen Zeit à la Jules Verne\, postapokalyptische Endzeitlern\, Cowboys & indigenen Völkern aber auch auf fantastische\, nicht-irdische Wesen wie Dunkelfeen\, Elfen und Zwerge. \nDamit kommt das Festival nach Baden-Württemberg (Bad Mergentheim im August) und Hessen (Rotenburg a. d. Fulda\, September) jetzt auch wieder nach NRW\, wo es 2018 in Lüdinghausen seine „Weltpremiere“ feierte. \nNeben vielen kulinarischen Highlights dürfen sich die Besucher in diesem Jahr besonders freuen auf: \n\nLuftakrobatik mit ConFilius & Jorinde\nDas Wesen von Saeftinghe erzählt die Geschichte eines mittelalterlichen Schilfschneiders\, der ein Wesen im Gestrüpp\, in den überschwemmten Gebieten von Holland und Zeeland\, entdeckt hat. Er schafft es\, das Wesen zu fangen. Er zieht von Stadt zu Stadt um den Menschen das Wesen zu zeigen und auch Tricks zu lehren.\nPyrates: das ist eine preisgekrönte\, international bekannte Elektro-Folk-Rock-Piratenband aus den Niederlanden. Sie bezeichnen sich selbst als seefahrende\, musikalischen Marodeuren\, die von den Küsten der Niederlande zu rauhen Häfen auf der ganzen Welt segeln! Eine berüchtigte Band von Seeräubern\, die ihre eigene Art von Piraten-Folk-Rock-Musik anderen Piraten und unglücklichen Landratten auf der ganzen Welt aufzwingt! Kräftige Bänkelsänger\, bewaffnet mit Gitarre\, Bass\, Schlagzeug und Fiedel.\nZauberer Ted McKoy: Der schnauzbärtige Schotte ist der Publikumsliebling aller Strassen- und Zauberfestivals. Er hat immer Zeit für einen Plausch und vor allem die Kinder lieben den Zauberer. Ted gewann 2012 den „Internationalen Wettbewerb der Straßenzauberer“ in St. Wendel (Saarland). Seine Show ist ein Mix aus Magie\, Entertainment und Comedy.\nDie Wasteland Warriors sind eine Vereinigung von Endzeit-Darstellern mit spektakulären Fahrzeugen in der ganzen Welt und bieten Showact\, Walkact\, Cardrives\, Cagefights und vieles mehr!. Jedes Kostüm\, jede Waffe\, jedes Requisit und jeder Custom-Car-Entwurf wird von den Mitgliedern handgefertigt.\nDie Nautilus: Aus dem Wrack der Nautilus\, die aus der stillen Südsee aufgetaucht ist\, hat der niederländische Musikkünstler Arthur van Poppel eine technische Meisterleistung gebaut. Mit einem ganzen Arsenal von Rädern\, Hebeln\, Ketten\, Zahnrädern\, Zählern\, Rohren und komplizierten Getrieben hat es dieser Musikkünstler geschafft\, ein komplettes Ein-Mann-Orchester zu schaffen. Das Publikum ist regelmäßig beeindruckt von seiner genialen Spielweise\, seinem funktionalen Gitarrenspiel\, seiner glasklaren Stimme und seinem fröhlichen Auftreten. Holländische\, deutsche und englische Songs\, Rock and Roll\, Country\, Easy Listening\, 60’s\, 70’s\, 80’s\, 90’s\, schillerte Unterhaltung sorgen. Die im Jules-Verne-Stil gehaltene Maschine mit ihren Steampunk-ähnlichen Dekorationen ist ein Fest für Augen und Ohren. Eine gigantische Feuermaschine komplettiert das U-Boot.\nDie Akteure der Steam-Show haben die weiteste Anreise aller Akteure in ANNOTOPIA. Die Truppe aus Minsk (Belarus) präsentiert ihre Fantasy-Dragon-Show mit reichlich Feuer und Artistik. Im Mittelpunkt steht dabei ihr schwarzer Drache „El Draco“.\nKarussell und Holzriesenrad\, alles handbetrieben\, bieten außergewöhnliche Kinderunterhaltung.\nund auch Julius Caesar persönlich wird sein Lager im Schlosspark aufschlagen\n\nViele weitere Infos (Preise\, Tickets\, Öffnungszeiten\, …) entnehmen Sie bitte der offiziellen ANNOTOPIA-Homepage: www.annotopia.eu \nZeiten: Sa\, 2. Okt\, 11- 24 Uhr | So\, 3. Okt\, 10 – 19 Uhr \nTickets können an den Tageskassen des Festivals erworben werden.
URL:https://burg-vischering.de/kulturprogramm/annotopia-2/
LOCATION:Burg Vischering\, Berenbrock 1\, Lüdinghausen\, Nordrhein-Westfalen\, 59348\, Deutschland
CATEGORIES:Allgemeine Veranstaltungen,Archiv-allgemeine-Veranstaltungen
ATTACH;FMTTYPE=image/jpeg:https://burg-vischering.de/wp-content/uploads/2020/01/Annotopia-9-c-foto-connection.de_.jpg
END:VEVENT
END:VCALENDAR