BEGIN:VCALENDAR
VERSION:2.0
PRODID:-//burg-vischering - ECPv6.15.20//NONSGML v1.0//EN
CALSCALE:GREGORIAN
METHOD:PUBLISH
X-ORIGINAL-URL:https://burg-vischering.de
X-WR-CALDESC:Veranstaltungen für burg-vischering
REFRESH-INTERVAL;VALUE=DURATION:PT1H
X-Robots-Tag:noindex
X-PUBLISHED-TTL:PT1H
BEGIN:VTIMEZONE
TZID:Europe/Amsterdam
BEGIN:DAYLIGHT
TZOFFSETFROM:+0100
TZOFFSETTO:+0200
TZNAME:CEST
DTSTART:20200329T010000
END:DAYLIGHT
BEGIN:STANDARD
TZOFFSETFROM:+0200
TZOFFSETTO:+0100
TZNAME:CET
DTSTART:20201025T010000
END:STANDARD
BEGIN:DAYLIGHT
TZOFFSETFROM:+0100
TZOFFSETTO:+0200
TZNAME:CEST
DTSTART:20210328T010000
END:DAYLIGHT
BEGIN:STANDARD
TZOFFSETFROM:+0200
TZOFFSETTO:+0100
TZNAME:CET
DTSTART:20211031T010000
END:STANDARD
BEGIN:DAYLIGHT
TZOFFSETFROM:+0100
TZOFFSETTO:+0200
TZNAME:CEST
DTSTART:20220327T010000
END:DAYLIGHT
BEGIN:STANDARD
TZOFFSETFROM:+0200
TZOFFSETTO:+0100
TZNAME:CET
DTSTART:20221030T010000
END:STANDARD
END:VTIMEZONE
BEGIN:VEVENT
DTSTART;VALUE=DATE:20210613
DTEND;VALUE=DATE:20210927
DTSTAMP:20260421T170941
CREATED:20210520T163736Z
LAST-MODIFIED:20210812T114740Z
UID:4207-1623542400-1632700799@burg-vischering.de
SUMMARY:Hermann Nitsch. Farbe als Material
DESCRIPTION:Mit dem österreichischen Maler und Aktionskünstler Hermann Nitsch präsentiert das Museum Burg Vischering ab Sommer einen internationalen Ausnahmekünstler ohnegleichen\, dessen Werke in allen bedeutenden öffentlichen wie privaten Sammlungen auf der ganzen Welt vertreten sind. Im Mittelpunkt der Ausstellung stehen die „Schüttbilder“\, bei denen Nitsch die Farbe aus seinem Behältnis mittels Rinnens\, Schüttens und Schmierens in impulsiven Bewegungen direkt auf den Bildträger gibt.  Dabei folgt auch im hohen Alter sein ganzer Körper dem Rhythmus seiner Bewegungen\, der Impulsivität von Gefühlseruptionen\, wobei der Malprozess im Vordergrund steht\, dem Zufall Tür und Tor geöffnet werden. \nSeit über 50 Jahren schreibt Hermann Nitsch mit seinen Aktionen\, Bildern und Performances Kunstgeschichte und hat darüber hinaus auch die Opern- und Theaterlandschaft im deutschsprachigen Raum geprägt. Dementsprechend geht sein künstlerisches Schaffen weit über das Medium der Malerei hinaus und artikuliert sich als ein dynamisches Gesamtkunstwerk aus Malerei\, Theater\, Musik und Dichtung\, in dem Mythologie\, Religion und Philosophie zu einer faszinierenden Einheit verschmelzen. Die Ausstellung ist zugleich Teil des Münsterland Festivals 2021 und findet in Kooperation mit der Galerie Geuer und Geuer statt. \nIm Rahmen der Ausstellung werden auch Führungen mit der Künstlerin Doris Kastner für max. 19 Gäste angeboten: \nSonntag\, 22. August\, 15 Uhr \nSonntag\, 12. September\, 15 Uhr \nAnmeldung unter 02591 7990-0 oder per Mail an: kultur@kreis-coesfeld.de \nDie Führung am 12.9. ist im Rahmen des Tags des offenen Denkmals komplett kostenlos\, für den Termin im August ist lediglich der Ausstellungseintritt von 3\,50€ (ermäßigt 2€) zu begleichen. \nZudem können individuelle Führungen für Einzelpersonen und Gruppen für maximal 19 Gäste zum Preis von 70 Euro zzgl. Ausstellungseintritt gebucht werden. \nFoto: Hermann Nitsch: Schüttbild mit Malerhemd\, 2017\, Acryl auf Leinwand\, 200 x 300 cm\, © VG Bild-Kunst\, Bonn 2021
URL:https://burg-vischering.de/kulturprogramm/hermann-nitsch-farbe-als-material/
LOCATION:Burg Vischering\, Berenbrock 1\, Lüdinghausen\, Nordrhein-Westfalen\, 59348\, Deutschland
CATEGORIES:Ausstellung
ATTACH;FMTTYPE=image/jpeg:https://burg-vischering.de/wp-content/uploads/2021/05/Hermann-Nitsch-Schuettbild-mit-Malerhemd-2017-Acryl-auf-Leinwand-200-x-300-cm-©-VG-Bild-Kunst-Bonn-2021.jpg
END:VEVENT
BEGIN:VEVENT
DTSTART;TZID=Europe/Amsterdam:20210613T170000
DTEND;TZID=Europe/Amsterdam:20210926T180000
DTSTAMP:20260421T170941
CREATED:20210528T083610Z
LAST-MODIFIED:20210528T083735Z
UID:4234-1623603600-1632679200@burg-vischering.de
SUMMARY:Hermann Nitsch. Paint as Material
DESCRIPTION:This summer the Vischering Castle Museum will present the Austrian painter and performance artist\, Hermann Nitsch\, an international exceptional artist without equal\, whose works are represented in public and private collections all over the world. In the focus of the exhibition are “splatter paintings” where Nitsch applies the paint out of his container by letting the paint run\, by pouring and stroking it with impulsive movements directly onto the picture base. Even at his advanced age\, his whole body follows the rhythm of his movements\, the impulse of emotional eruptions\, focussing on the painting process and allowing a random effect. \nHermann Nitsch\, with his art events\, paintings and performances\, has been creating art history for over 50 years\, and beyond that\, he has shaped the opera- and theatrical landscape in the German-speaking world. Thus\, his artistic work goes far beyond the medium of painting. It articulates itself as a dynamic synthesis of painting\, theatre\, music and poetry where mythology\, religion and philosophy merge into one fascinating entity. The exhibition is also part of the Münsterland Festival 2021\, and it will take place in co-operation with the Gallery Geuer and Geuer. \nWe cordially invite you to the opening of the exhibition on Sunday\, June 13th at 5 pm. Registration for the event will be possible via our website shortly. \nPhoto: Hermann Nitsch: splatter painting with painter’s shirt\, 2017\, acrylic on canvas\, 200 x 300 cm\, VG Bild-Kunst\, ©Bonn 2021
URL:https://burg-vischering.de/kulturprogramm/hermann-nitsch-paint-as-material/
LOCATION:Berenbrock 1\, Lüdinghausen\, Nordrhein-Westfalen\, 59348\, Deutschland
CATEGORIES:Exhibition
ATTACH;FMTTYPE=image/jpeg:https://burg-vischering.de/wp-content/uploads/2021/05/Hermann-Nitsch-Schuettbild-mit-Malerhemd-2017-Acryl-auf-Leinwand-200-x-300-cm-©-VG-Bild-Kunst-Bonn-2021.jpg
END:VEVENT
BEGIN:VEVENT
DTSTART;VALUE=DATE:20210815
DTEND;VALUE=DATE:20211031
DTSTAMP:20260421T170941
CREATED:20210702T100756Z
LAST-MODIFIED:20210923T074339Z
UID:4503-1628985600-1635638399@burg-vischering.de
SUMMARY:Sieben Spielwunder. Klang- und Videoinstallationen von Dodo Schielein und Torsten Bruch
DESCRIPTION:SOUNDSEEING \nIn der Ausstellung „Sieben Spielwunder“ thematisiert das Hamburger Künstlerpaar Dodo Schielein und Torsten Bruch vielfältige Zugänge von Körper und Klang. Anhand von sieben meist klingenden Arbeiten bekommen die Besucherinnen und Besucher Einblicke in fiktive\, spielerische Welten\, in denen der Klang verkörpert wird oder der eigene Körper durch Handlungsanweisungen zum Klangerzeuger wird. \nTorsten Bruch zeigt unter anderem seine zwei 5-Kanal Videoinstallationen „Space Station“ und „Ping Pong“\, in denen der Künstler mehrfach in unterschiedlichen Rollen auftritt. Von Dodo Schielein sind unter anderem die interaktiven Arbeiten „paper music #3+#4“\, „Musik zu Fuß“ sowie „body sound“ zu sehen\, welche die Besucher und Besucherinnen auffordern\, Rhythmen und Klänge mit dem eigenen Körper zu kreieren. \nEintritt: regulärer Museumseintritt \nAusstellungseröffnung So\, 15. Aug | 15 Uhr\nZur Eröffnung im Innenhof der Hauptburg laden wir Sie herzlich ein. Im Rahmen der Vernissage wird Dodo Schielein ihre Arbeiten performativ zum Klingen bringen.\n \nZur Eröffnung melden Sie sich bitte telefonisch unter 02591-7990-0 oder unter kultur@kreis-coesfeld.de an. Zutritt nur mit aktuellem negativen Coronatest oder entsprechender Immunisierung. \n  \n  \nDodo Schielein und Torsten Bruch \n  \nDas münsterlandweite Klangkunstfestival SOUNDSEEING wird ermöglicht durch die Förderung des Ministeriums für Kultur und Wissenschaft\, der Kunststiftung NRW\, der LWL-Kulturstiftung und der Gelsenwasser-Stiftung. Kultur und Medienpartner sind Kultur West und WDR 3.\nMehr sehen und hören? https://www.soundseeing.net\nSocial media:\nhttps://www.instagram.com/klangkunstfestival_soundseeing/\nhttps://www.facebook.com/LandesmusikakademieNRW \n  \n \n \n \n 
URL:https://burg-vischering.de/kulturprogramm/soundseeing-klanginstallation-dodo-schielein-und-thomas-bruch/
LOCATION:Burg Vischering\, Berenbrock 1\, Lüdinghausen\, Nordrhein-Westfalen\, 59348\, Deutschland
CATEGORIES:Ausstellung
ATTACH;FMTTYPE=image/jpeg:https://burg-vischering.de/wp-content/uploads/2021/07/Dodo_Schielein_paper_music3-scaled.jpg
ORGANIZER;CN="Burg Vischering":MAILTO:kultur@kreis-coesfeld.de
END:VEVENT
END:VCALENDAR